BEGIN:VCALENDAR
VERSION:2.0
PRODID:-//Holiday Bar - ECPv6.15.20//NONSGML v1.0//EN
CALSCALE:GREGORIAN
METHOD:PUBLISH
X-WR-CALNAME:Holiday Bar
X-ORIGINAL-URL:https://holidaybaratl.com
X-WR-CALDESC:Events for Holiday Bar
REFRESH-INTERVAL;VALUE=DURATION:PT1H
X-Robots-Tag:noindex
X-PUBLISHED-TTL:PT1H
BEGIN:VTIMEZONE
TZID:America/New_York
BEGIN:DAYLIGHT
TZOFFSETFROM:-0500
TZOFFSETTO:-0400
TZNAME:EDT
DTSTART:20240310T070000
END:DAYLIGHT
BEGIN:STANDARD
TZOFFSETFROM:-0400
TZOFFSETTO:-0500
TZNAME:EST
DTSTART:20241103T060000
END:STANDARD
BEGIN:DAYLIGHT
TZOFFSETFROM:-0500
TZOFFSETTO:-0400
TZNAME:EDT
DTSTART:20250309T070000
END:DAYLIGHT
BEGIN:STANDARD
TZOFFSETFROM:-0400
TZOFFSETTO:-0500
TZNAME:EST
DTSTART:20251102T060000
END:STANDARD
BEGIN:DAYLIGHT
TZOFFSETFROM:-0500
TZOFFSETTO:-0400
TZNAME:EDT
DTSTART:20260308T070000
END:DAYLIGHT
BEGIN:STANDARD
TZOFFSETFROM:-0400
TZOFFSETTO:-0500
TZNAME:EST
DTSTART:20261101T060000
END:STANDARD
END:VTIMEZONE
BEGIN:VEVENT
DTSTART;TZID=America/New_York:20250317T160000
DTEND;TZID=America/New_York:20250317T220000
DTSTAMP:20260422T192546
CREATED:20250314T213613Z
LAST-MODIFIED:20250314T213655Z
UID:10000024-1742227200-1742248800@holidaybaratl.com
SUMMARY:Duo Lingo St. Patrick’s Day Cocktail Class 🍀🥂
DESCRIPTION:📅 Date: St. Patrick’s Day🕓 Time: 4:00 PM – 10:00 PM📍 Location: Holiday Bar \nCelebrate St. Patrick’s Day with Duo Lingo ATL in a night of rich history\, legendary spirits\, and unforgettable culture! 🍀✨ Immerse yourself in the bold flavors of the Emerald Isle with a special FREE cocktail-making class featuring Irish-inspired drinks. Plus\, enjoy delicious bites from @peppershotdogs to keep the festivities going! \nRaise a glass\, learn something new\, and toast to the luck of the Irish! 🍹🇮🇪 Don’t miss out—grab your spot now! 🎟️ \nRSVP NOW
URL:https://holidaybaratl.com/event/duo-lingo-st-patricks-day-cocktail-class-2025/
LOCATION:HOLIDAY
CATEGORIES:Cocktail Class,Holiday
ATTACH;FMTTYPE=image/jpeg:https://holidaybaratl.com/wp-content/uploads/2025/03/482543640_17883099018244089_7215171344163692220_n.jpg
END:VEVENT
BEGIN:VEVENT
DTSTART;TZID=America/New_York:20250327T180000
DTEND;TZID=America/New_York:20250327T235900
DTSTAMP:20260422T192546
CREATED:20250321T181631Z
LAST-MODIFIED:20250323T001547Z
UID:10000025-1743098400-1743119940@holidaybaratl.com
SUMMARY:International Whiskey Day 🥃
DESCRIPTION:Join us for a Crown Royal Cocktail Class in honor of International Whiskey Day! Whether you’re a whiskey connoisseur or just looking to refine your cocktail-making skills\, this exclusive event is perfect for you. Learn how to craft the perfect whiskey cocktail with expert guidance\, followed by an International Listening Party to keep the celebration going. Tickets come with a complimentary cocktail! \nEnjoy a night of fine whiskey\, great company\, and unforgettable music. RSVP now and raise a glass with us!
URL:https://holidaybaratl.com/event/international-whiskey-day-2025/
LOCATION:HOLIDAY
CATEGORIES:Cocktail Class,Holiday,Listening Party
ATTACH;FMTTYPE=image/jpeg:https://holidaybaratl.com/wp-content/uploads/2025/03/6-2.jpeg
END:VEVENT
END:VCALENDAR