BEGIN:VCALENDAR
VERSION:2.0
PRODID:-//Holiday Bar - ECPv6.15.20//NONSGML v1.0//EN
CALSCALE:GREGORIAN
METHOD:PUBLISH
X-ORIGINAL-URL:https://holidaybaratl.com
X-WR-CALDESC:Events for Holiday Bar
REFRESH-INTERVAL;VALUE=DURATION:PT1H
X-Robots-Tag:noindex
X-PUBLISHED-TTL:PT1H
BEGIN:VTIMEZONE
TZID:UTC
BEGIN:STANDARD
TZOFFSETFROM:+0000
TZOFFSETTO:+0000
TZNAME:UTC
DTSTART:20240101T000000
END:STANDARD
END:VTIMEZONE
BEGIN:VEVENT
DTSTART;TZID=UTC:20250816T140000
DTEND;TZID=UTC:20250816T180000
DTSTAMP:20260422T181718
CREATED:20250805T040758Z
LAST-MODIFIED:20250816T155050Z
UID:10000037-1755352800-1755367200@holidaybaratl.com
SUMMARY:National Rum Day: Caribbean Beats & Tastes
DESCRIPTION:📅 Date: Saturday\, August 16th🕑 Time: 2:00 PM – 6:00 PM🎟️ Tickets: $20 🍴 Featuring: Caribbean food vendors + rum from 4 countries🎧 Music: 3 rotating DJs + island beats \nWe’re going all in for National Rum Day with a Caribbean cocktail takeover. Experience different rums from Jamaica\, Barbados\, Venezuela\, and Dominican Republic\, paired with plates from local Caribbean food vendors for purchase. \n(Rum tastings included in ticket) \nExpect bold flavors\, island beats all afternoon\, and cocktails that hit like sunshine. \n21+ Event
URL:https://holidaybaratl.com/event/national-rum-day-a-caribbean-cocktail-experience/
LOCATION:HOLIDAY
CATEGORIES:Holiday,Themed Party
ATTACH;FMTTYPE=image/png:https://holidaybaratl.com/wp-content/uploads/2025/08/v1.png
END:VEVENT
BEGIN:VEVENT
DTSTART;TZID=UTC:20250817T160000
DTEND;TZID=UTC:20250817T190000
DTSTAMP:20260422T181718
CREATED:20250805T042141Z
LAST-MODIFIED:20250807T033516Z
UID:10000035-1755446400-1755457200@holidaybaratl.com
SUMMARY:PICNIC + PLANTS: Seed ATL
DESCRIPTION:📅 Date: Sunday\, August 17th🕓 Time: 4:00 PM – 7:00 PM🎟️ Tickets: $30 | Limited to 25 RSVPs🍸 Includes: Plant & cocktail \nGrab your friends (and your inner plant parent) for an intimate afternoon with Seed ATL. We’re blending botanicals + cocktails for a hands-on plant class with a side of curated vibes. Enjoy a laid-back picnic\, sip on fresh cocktails\, and leave with a new leafy bestie you potted yourself.
URL:https://holidaybaratl.com/event/picnic-plants-seeds-atl/
LOCATION:HOLIDAY
CATEGORIES:Holiday
ATTACH;FMTTYPE=image/png:https://holidaybaratl.com/wp-content/uploads/2025/08/Picnic-Plants.png
END:VEVENT
BEGIN:VEVENT
DTSTART;TZID=UTC:20250907T120000
DTEND;TZID=UTC:20250907T180000
DTSTAMP:20260422T181718
CREATED:20250904T190329Z
LAST-MODIFIED:20250905T001025Z
UID:10000045-1757246400-1757268000@holidaybaratl.com
SUMMARY:US Open Finals Watch Party – Sponsored by Grey Goose
DESCRIPTION:📅 Date: Sunday\, September 7🕛 Time: 12:00 PM – 6:00 PM🎾 Entry: Free to the Public🍸 Featuring Grey Goose Cocktails📍 Location: Holiday Bar \nIt’s championship weekend and we’re serving US Open Finals energy\, Atlanta-style. Join us all afternoon for a Grey Goose-sponsored tennis viewing party\, complete with crisp cocktails and all the final match action streaming live. \nWhether you’re here for the match\, the drinks\, or the vibes—it’s game\, set\, match. \n21+ Event
URL:https://holidaybaratl.com/event/us-open-watch-party/
LOCATION:HOLIDAY
CATEGORIES:Holiday,Watch Party
ATTACH;FMTTYPE=image/png:https://holidaybaratl.com/wp-content/uploads/2025/09/US-OPEN-3.png
END:VEVENT
BEGIN:VEVENT
DTSTART;TZID=UTC:20251030T200000
DTEND;TZID=UTC:20251030T233000
DTSTAMP:20260422T181718
CREATED:20251020T152631Z
LAST-MODIFIED:20251027T190151Z
UID:10000057-1761854400-1761867000@holidaybaratl.com
SUMMARY:Scream on the Green: Scary Movie
DESCRIPTION:📅 Date: Thursday\, October 30📍 Location: Holiday Bar🕗 Time: 8:00 PM – Until🎟️ Tickets: $7🍹 Perks: Specialty cocktails & food available | Bring your own blanket \nHe’s behind you… or maybe he’s at the bar ordering another round. Join us for Scream on the Green: Scary Movie — a night of chills\, cocktails\, and cult-classic chaos under the stars. \nJoin us outdoors at Holiday Bar for a full night of eerie thrills\, themed cocktails\, and fall energy under the stars. Bring a thick yoga mat or blanket\, chair\, grab a drink\, and get ready. \nTickets are just $7 — specialty cocktails and food available all night. \n21+ Event | BYOCHAIRS & BLANKETS \nMovie Night FAQ \nEvent Timeline \n\n8:00 PM: Doors open\n8:30 PM: Movie starts\n\nCan we bring our own blanket or chair? \n\nAbsolutely — it’s encouraged!\nAs our event has grown\, we’ve transitioned from grass to street seating. Please bring yoga mats\, low chairs\, or thick blankets for added comfort.\nWe’ll also have heaters available for cooler nights.\n\nCan we bring our own drinks? \n\nNo outside alcoholic beverages are allowed.\nWe kindly ask that all alcohol be purchased on-site to support our in-house bar.\n\nCan we bring food? \n\nYes\, outside food is allowed.\nWe’ll also offer popcorn and have a local food vendor\, Sake Eats\, on-site for tasty options.\n\nTickets \n\n🎟 First 100 tickets: $7\n🎟 Last 50 tickets: $10\n🎟 At the door: $10 (subject to availability)
URL:https://holidaybaratl.com/event/scream-on-the-green-scary-movie/
LOCATION:Interlock’s Highline Park\, 1115 Howell Mill Rd\, Atlanta\, GA\, 30318\, United States
CATEGORIES:Holiday,Watch Party
ATTACH;FMTTYPE=image/jpeg:https://holidaybaratl.com/wp-content/uploads/2025/10/2E0AF082-E442-47DB-94C2-60E6E438588E.jpeg
GEO:33.784903;-84.411132
X-APPLE-STRUCTURED-LOCATION;VALUE=URI;X-ADDRESS=Interlock’s Highline Park 1115 Howell Mill Rd Atlanta GA 30318 United States;X-APPLE-RADIUS=500;X-TITLE=1115 Howell Mill Rd:geo:-84.411132,33.784903
END:VEVENT
BEGIN:VEVENT
DTSTART;TZID=UTC:20251030T213000
DTEND;TZID=UTC:20251031T003000
DTSTAMP:20260422T181718
CREATED:20251027T170327Z
LAST-MODIFIED:20251027T170739Z
UID:10000058-1761859800-1761870600@holidaybaratl.com
SUMMARY:Scream on the Green: After Party
DESCRIPTION:🎃 HALLOWEEN AFTER PARTY: SCREAM ON THE GREEN 👻 \n📅 Date: Thursday\, October 30\, 2025 \n📍 Location: Holiday Bar ATL \n⏰ Time: 9:30 PM – 12:30 AM \n🎟️ Tickets: RSVP \n🍸 Perks: Sponsored by Patrón | Costume Contest with Prizes | Music\, Mini Games & Specialty Cocktails \nThe movie might end\, but the screams don’t stop here… \nJoin us at Holiday Bar ATL for the official Scream on the Green After Party — sponsored by Patrón — where the scares turn social and the best costumes steal the show! Come dressed as your favorite scary movie character or Halloween icon for a chance to win prizes in our costume contest. \nExpect music\, mini games\, and mayhem all night long. \nBecause the only thing scarier than missing this… is hearing about it later.
URL:https://holidaybaratl.com/event/scream-on-the-green-after-party/
LOCATION:HOLIDAY
CATEGORIES:Holiday,Themed Party
ATTACH;FMTTYPE=image/jpeg:https://holidaybaratl.com/wp-content/uploads/2025/10/IMG_2354.jpeg
END:VEVENT
BEGIN:VEVENT
DTSTART;TZID=UTC:20251103T120000
DTEND;TZID=UTC:20251103T150000
DTSTAMP:20260422T181718
CREATED:20251027T201833Z
LAST-MODIFIED:20251027T202003Z
UID:10000059-1762171200-1762182000@holidaybaratl.com
SUMMARY:Peace & Prosecco
DESCRIPTION:🧘‍♀️ Peace & Prosecco with Jada — sponsored by Viarae Prosecco and hosted at Holiday Bar ATL. \nThis one’s for the industry fam — the bartenders\, servers\, cooks\, creatives\, and hospitality pros who keep the city moving. Take a breather\, stretch it out\, and unwind with a glass (or two) of Viarae Prosecco after a gentle yoga flow led by Jada. \nMonday\, November 3 | 12 PM – 3 PM \nBecause the hardest-working people deserve a soft morning\, good energy\, and great bubbles.
URL:https://holidaybaratl.com/event/peace-prosecco/
LOCATION:HOLIDAY
CATEGORIES:Holiday,Themed Party
ATTACH;FMTTYPE=image/png:https://holidaybaratl.com/wp-content/uploads/2025/10/Yoga-on-the-Green-2.png
END:VEVENT
BEGIN:VEVENT
DTSTART;TZID=UTC:20251120T193000
DTEND;TZID=UTC:20251120T233000
DTSTAMP:20260422T181718
CREATED:20251116T220517Z
LAST-MODIFIED:20251120T212615Z
UID:10000060-1763667000-1763681400@holidaybaratl.com
SUMMARY:Screen on the Green: Napoleon Dynamite
DESCRIPTION:🎟️ Date: Thursday\, November 21\n📍 Location: Interlock’s Highline Park\n⏰ Time: 7:30 PM – Until\n💸 Tickets: $7\n✨ Perks: Specialty hot cocktails + food available  \nGet ready to vote for Pedro and live your best awkward-teenage-dream life 🤓✨\nWe’re screening the cult-classic Napoleon Dynamite for this edition of Screen on the Green — so grab your friends\, your tots\, your chapstick\, and settle in for a night of ridiculous fun under the stars! \nJoin us outdoors near Interlock’s Highline Park for cozy fall air\, themed cocktails\, popcorn\, and one of the most quotable comedies of all time. Bring a thick yoga mat or blanket\, low chair\, and get comfy — you won’t want to miss a single gosh-darn moment. \nDon’t forget your bennies and gloves or your favorite cuddle buddy!  \nTickets are just $7 — specialty cocktails and food brought to you by Sake Social available all night. \n21+ Event | BYOCHAIRS & BLANKETS \nMovie Night FAQ \nEvent Timeline\n• 7:30 PM: Doors open\n• 8:00 PM: Movie starts \nCan we bring our own drinks?\n• No outside alcoholic beverages are allowed.\n• We kindly ask that all alcohol be purchased on-site to support our in-house bar. \nCan we bring food?\n• No\, outside food is allowed.\n• We offer popcorn and have a local food vendor on-site for tasty options. \nCan we bring our own blanket or chair?\n• Absolutely — it’s encouraged!\n• As our event has grown\, we’ve transitioned from grass to street seating. Please bring yoga mats\, low chairs\, or thick blankets for added comfort.\n• We’ll also have heaters available for cooler nights. \nTickets\n• 🎟️ First 100 tickets: $7\n• 🎟️ Last 50 tickets: $10\n• 🎟️ At the door: $10 (based on availability)
URL:https://holidaybaratl.com/event/screen-on-the-green-napoleon-dynamite/
LOCATION:Interlock’s Highline Park\, 1115 Howell Mill Rd\, Atlanta\, GA\, 30318\, United States
CATEGORIES:Holiday,Themed Party,Watch Party
ATTACH;FMTTYPE=image/png:https://holidaybaratl.com/wp-content/uploads/2025/11/2F5E5E2E-F424-4F39-ADA1-F9822CDE5195-1.png
GEO:33.784903;-84.411132
X-APPLE-STRUCTURED-LOCATION;VALUE=URI;X-ADDRESS=Interlock’s Highline Park 1115 Howell Mill Rd Atlanta GA 30318 United States;X-APPLE-RADIUS=500;X-TITLE=1115 Howell Mill Rd:geo:-84.411132,33.784903
END:VEVENT
BEGIN:VEVENT
DTSTART;TZID=UTC:20260222T130000
DTEND;TZID=UTC:20260222T150000
DTSTAMP:20260422T181718
CREATED:20260217T005058Z
LAST-MODIFIED:20260217T182332Z
UID:10000063-1771765200-1771772400@holidaybaratl.com
SUMMARY:National Margarita Day: Guided Cocktail Experience
DESCRIPTION:Date & Time: Sunday\, February 22ndTime: 1:00 PM – 3:00 PMTickets: $50 \nCelebrate National Margarita Day the right way— With an interactive cocktail class! Enjoy learning how to make a true margarita\, while munching on tasty food! This is a hands-on educational experience led by our team. with a guided journey through the bold and complex world of Margaritas. Join us on Sunday\, February 22nd from 1 to 3 PM at HOLIDAY for an exclusive Cocktail Class\, where you’ll sip and learn your way through this iconic cocktails history\, styles\, and tasting notes. \n🍹 Guided margarita class led by a knowledgeable host🎟️ $50 – only 30 spots available🎫 Wristbands provided at check-in for confirmed guests \nPerfect for tequila lovers and curious sippers alike—reserve your spot now before it’s gone!
URL:https://holidaybaratl.com/event/national-margarita-day-guided-cocktail-experience/
LOCATION:HOLIDAY
CATEGORIES:Cocktail Class,Holiday,Liquor Tasting
ATTACH;FMTTYPE=image/jpeg:https://holidaybaratl.com/wp-content/uploads/2026/02/IMG_0764-e1771347479444.jpeg
END:VEVENT
BEGIN:VEVENT
DTSTART;TZID=UTC:20260304T180000
DTEND;TZID=UTC:20260304T200000
DTSTAMP:20260422T181718
CREATED:20260223T225734Z
LAST-MODIFIED:20260223T230305Z
UID:10000064-1772647200-1772654400@holidaybaratl.com
SUMMARY:Sip & Connect: Home Edition
DESCRIPTION:Sip & Connect: Home Edition — partnered with T.M.I\, Luxury Living\, Monae Home Studios and hosted at Holiday Bar ATL. \nAn intentional networking experience for real estate and home professionals who value relationships over transactions. Join agents\, lenders\, designers\, stagers\, and service providers for an elevated evening of conversation\, collaboration\, and meaningful connection — no cold pitches\, just real relationships. \nMarch 4th | 6–8 PM \nThis is networking\, redefined. \n 
URL:https://holidaybaratl.com/event/sip-connect-home-edition/
LOCATION:HOLIDAY
CATEGORIES:Holiday,Launch Party,Networking Event,Real Estate,Themed Party
ATTACH;FMTTYPE=image/png:https://holidaybaratl.com/wp-content/uploads/2026/02/Gray-White-Real-Estate-Agent-Formal-Postcard-Instagram-Post-45-1.png
END:VEVENT
BEGIN:VEVENT
DTSTART;TZID=UTC:20260425T120000
DTEND;TZID=UTC:20260425T160000
DTSTAMP:20260422T181718
CREATED:20260420T211716Z
LAST-MODIFIED:20260421T205910Z
UID:10000340-1777118400-1777132800@holidaybaratl.com
SUMMARY:Issa Picnic - National Picnic Day 🥂 🧺
DESCRIPTION:Issa Picnic 🥂 🧺☀️🍾 \nJoin us for a curated picnic experience designed for a relaxed afternoon of food\, drinks\, and atmosphere ☀️🍾 Set at Interlock Highland Park off the B-Line\, this daytime event blends a social picnic with interactive elements and elevated touches. \nEach ticket includes a full picnic setup and access to all featured activations. Guests will receive a blanket\, a bottle of Viarea Prosecco\, and a prepared sandwich along with entry to a build-your-own wine glass bar with decorative elements and customization options. A toppings and accoutrements station will be available to enhance your experience! \nA live DJ will keep the energy laid-back and consistent all afternoon 🎶 \nEvent Details\nDate: April 25\, 2026\nTime: 12:00 PM – 4:00 PM\nLocation: Interlock Highland Park (off the B-Line) 📍 \nSponsored by Viarea Prosecco. Hosted by Holiday Bar. \nThis is a limited-capacity event. Tickets include all listed inclusions 🎟️
URL:https://holidaybaratl.com/event/issa-picnic-national-picnic-day-%f0%9f%a5%82-%f0%9f%a7%ba/
LOCATION:Interlock’s Highline Park\, 1115 Howell Mill Rd\, Atlanta\, GA\, 30318\, United States
CATEGORIES:Holiday
ATTACH;FMTTYPE=image/png:https://holidaybaratl.com/wp-content/uploads/2026/04/Cheerful-Italian-Picnic-Brochure.png
GEO:33.784903;-84.411132
X-APPLE-STRUCTURED-LOCATION;VALUE=URI;X-ADDRESS=Interlock’s Highline Park 1115 Howell Mill Rd Atlanta GA 30318 United States;X-APPLE-RADIUS=500;X-TITLE=1115 Howell Mill Rd:geo:-84.411132,33.784903
END:VEVENT
END:VCALENDAR