BEGIN:VCALENDAR
VERSION:2.0
PRODID:-//Holiday Bar - ECPv6.15.20//NONSGML v1.0//EN
CALSCALE:GREGORIAN
METHOD:PUBLISH
X-WR-CALNAME:Holiday Bar
X-ORIGINAL-URL:https://holidaybaratl.com
X-WR-CALDESC:Events for Holiday Bar
REFRESH-INTERVAL;VALUE=DURATION:PT1H
X-Robots-Tag:noindex
X-PUBLISHED-TTL:PT1H
BEGIN:VTIMEZONE
TZID:UTC
BEGIN:STANDARD
TZOFFSETFROM:+0000
TZOFFSETTO:+0000
TZNAME:UTC
DTSTART:20250101T000000
END:STANDARD
END:VTIMEZONE
BEGIN:VEVENT
DTSTART;VALUE=DATE:20260303
DTEND;VALUE=DATE:20260304
DTSTAMP:20260423T091001
CREATED:20250129T185751Z
LAST-MODIFIED:20260301T190617Z
UID:10000005-1772496000-1772582399@holidaybaratl.com
SUMMARY:Hot Chocolate Social
DESCRIPTION:Hot Chocolate Social at Holiday \nJoin us March 3 from 7–9PM for a cozy winter night with serious vacation energy. We’re teaming up with Brugal 1888 to bring you a warm\, indulgent menu featuring spiked hot chocolate\, rum-kissed affogatos\, elevated coffee\, and decadent floats — plus the option to enjoy Brugal 1888 neat for a smooth\, oak-forward finish. \nExpect rich dark chocolate\, toasted spice\, velvety espresso\, house whipped cream\, and seasonal toppings — all set to warm music and laid-back Holiday vibes. \nCold outside. Warm inside and always time for chocolate!
URL:https://holidaybaratl.com/event/hot-chocolate-day/
LOCATION:HOLIDAY
CATEGORIES:Liquor Tasting
ATTACH;FMTTYPE=image/png:https://holidaybaratl.com/wp-content/uploads/2025/01/Hot-Chocolate-Social-Flyer.png
END:VEVENT
BEGIN:VEVENT
DTSTART;TZID=UTC:20260324T180000
DTEND;TZID=UTC:20260324T200000
DTSTAMP:20260423T091001
CREATED:20260225T211628Z
LAST-MODIFIED:20260225T213539Z
UID:10000068-1774375200-1774382400@holidaybaratl.com
SUMMARY:World Cocktail Day
DESCRIPTION:Your journey begins here. \nOn March 24 from 6PM–8PM\, we’re celebrating World Cocktail Day with an immersive\, passport-style cocktail experience in West Midtown. \nTravel through three destinations — Mexico\, Italy\, and Japan — as you discover the stories and techniques behind three internationally inspired cocktails from the Holiday menu. \nYour ticket includes: One welcome cocktail on arrival • Three cocktails crafted by you • International bites • Guided instruction from our team \nSip\, stamp your passport\, and experience the world — no flight required. ✈️🍸
URL:https://holidaybaratl.com/event/world-cocktail-day/
LOCATION:HOLIDAY
CATEGORIES:Cocktail Class,Liquor Tasting,Themed Party
ATTACH;FMTTYPE=image/jpeg:https://holidaybaratl.com/wp-content/uploads/2026/02/IMG_2917-e1772053889289.jpeg
END:VEVENT
END:VCALENDAR