BEGIN:VCALENDAR
VERSION:2.0
PRODID:-//Holiday Bar - ECPv6.15.20//NONSGML v1.0//EN
CALSCALE:GREGORIAN
METHOD:PUBLISH
X-WR-CALNAME:Holiday Bar
X-ORIGINAL-URL:https://holidaybaratl.com
X-WR-CALDESC:Events for Holiday Bar
REFRESH-INTERVAL;VALUE=DURATION:PT1H
X-Robots-Tag:noindex
X-PUBLISHED-TTL:PT1H
BEGIN:VTIMEZONE
TZID:America/New_York
BEGIN:DAYLIGHT
TZOFFSETFROM:-0500
TZOFFSETTO:-0400
TZNAME:EDT
DTSTART:20250309T070000
END:DAYLIGHT
BEGIN:STANDARD
TZOFFSETFROM:-0400
TZOFFSETTO:-0500
TZNAME:EST
DTSTART:20251102T060000
END:STANDARD
BEGIN:DAYLIGHT
TZOFFSETFROM:-0500
TZOFFSETTO:-0400
TZNAME:EDT
DTSTART:20260308T070000
END:DAYLIGHT
BEGIN:STANDARD
TZOFFSETFROM:-0400
TZOFFSETTO:-0500
TZNAME:EST
DTSTART:20261101T060000
END:STANDARD
BEGIN:DAYLIGHT
TZOFFSETFROM:-0500
TZOFFSETTO:-0400
TZNAME:EDT
DTSTART:20270314T070000
END:DAYLIGHT
BEGIN:STANDARD
TZOFFSETFROM:-0400
TZOFFSETTO:-0500
TZNAME:EST
DTSTART:20271107T060000
END:STANDARD
END:VTIMEZONE
BEGIN:VTIMEZONE
TZID:UTC
BEGIN:STANDARD
TZOFFSETFROM:+0000
TZOFFSETTO:+0000
TZNAME:UTC
DTSTART:20250101T000000
END:STANDARD
END:VTIMEZONE
BEGIN:VEVENT
DTSTART;TZID=America/New_York:20260402T190000
DTEND;TZID=America/New_York:20260402T190000
DTSTAMP:20260423T083226
CREATED:20260225T220515Z
LAST-MODIFIED:20260414T232108Z
UID:10000075-1775156400-1775156400@holidaybaratl.com
SUMMARY:Sunset Sessions 🎶
DESCRIPTION:POV: You said you were going home after one drink … but Sunset Sessions is calling ! \nGolden hour hits. DJ behind the bar. Cocktail in hand. Pick up the phone & come on in! \nEvery Thursday 7PM – 12AM | This is your sign to romanticize your Thursday 
URL:https://holidaybaratl.com/event/sunset-sessions-%f0%9f%8e%b6/2026-04-02/
LOCATION:HOLIDAY
CATEGORIES:Listening Party
ATTACH;FMTTYPE=image/png:https://holidaybaratl.com/wp-content/uploads/2026/02/Sunset-Sessions-Spain-Instagram-Story.png
END:VEVENT
BEGIN:VEVENT
DTSTART;TZID=America/New_York:20260409T190000
DTEND;TZID=America/New_York:20260409T190000
DTSTAMP:20260423T083226
CREATED:20260225T220515Z
LAST-MODIFIED:20260414T232108Z
UID:10000076-1775761200-1775761200@holidaybaratl.com
SUMMARY:Sunset Sessions 🎶
DESCRIPTION:POV: You said you were going home after one drink … but Sunset Sessions is calling ! \nGolden hour hits. DJ behind the bar. Cocktail in hand. Pick up the phone & come on in! \nEvery Thursday 7PM – 12AM | This is your sign to romanticize your Thursday 
URL:https://holidaybaratl.com/event/sunset-sessions-%f0%9f%8e%b6/2026-04-09/
LOCATION:HOLIDAY
CATEGORIES:Listening Party
ATTACH;FMTTYPE=image/png:https://holidaybaratl.com/wp-content/uploads/2026/02/Sunset-Sessions-Spain-Instagram-Story.png
END:VEVENT
BEGIN:VEVENT
DTSTART;TZID=UTC:20260410T180000
DTEND;TZID=UTC:20260410T200000
DTSTAMP:20260423T083226
CREATED:20260409T014925Z
LAST-MODIFIED:20260409T014925Z
UID:10000332-1775844000-1775851200@holidaybaratl.com
SUMMARY:National Gin & Tonic Day 🍸
DESCRIPTION:Celebrate National Gin & Tonic Day at Holiday West Midtown on April 10th 🍋✨ with a full evening dedicated to one of the most refreshing classics. Enjoy gin & tonic specials all day\, explore curated G&T flights featuring bright\, citrus-forward combinations 🍸\, and discover new favorites crafted with intention. \nFrom 6–8 PM\, join us for a complimentary gin & tonic cocktail class 🥂 where you’ll learn the foundations of building the perfect G&T—covering balance\, garnish\, and flavor pairings—while sipping along the way. Whether you’re a gin lover or just looking for a fresh\, elevated experience\, this is your chance to slow down\, learn something new\, and enjoy the Holiday atmosphere. \nCome through\, grab a drink\, and stay for the experience—because at Holiday\, it’s never just a cocktail\, it’s a vibe . 
URL:https://holidaybaratl.com/event/national-gin-tonic-day-%f0%9f%8d%b8-2/
LOCATION:HOLIDAY
ATTACH;FMTTYPE=image/png:https://holidaybaratl.com/wp-content/uploads/2026/04/Sun-Washed-Vintage-Gin-and-Tonic-Flyer-Instagram-Post-45.png
END:VEVENT
BEGIN:VEVENT
DTSTART;TZID=America/New_York:20260416T190000
DTEND;TZID=America/New_York:20260416T190000
DTSTAMP:20260423T083226
CREATED:20260225T220515Z
LAST-MODIFIED:20260414T232108Z
UID:10000077-1776366000-1776366000@holidaybaratl.com
SUMMARY:Sunset Sessions 🎶
DESCRIPTION:POV: You said you were going home after one drink … but Sunset Sessions is calling ! \nGolden hour hits. DJ behind the bar. Cocktail in hand. Pick up the phone & come on in! \nEvery Thursday 7PM – 12AM | This is your sign to romanticize your Thursday 
URL:https://holidaybaratl.com/event/sunset-sessions-%f0%9f%8e%b6/2026-04-16/
LOCATION:HOLIDAY
CATEGORIES:Listening Party
ATTACH;FMTTYPE=image/png:https://holidaybaratl.com/wp-content/uploads/2026/02/Sunset-Sessions-Spain-Instagram-Story.png
END:VEVENT
BEGIN:VEVENT
DTSTART;TZID=America/New_York:20260423T190000
DTEND;TZID=America/New_York:20260423T190000
DTSTAMP:20260423T083226
CREATED:20260420T213601Z
LAST-MODIFIED:20260420T213729Z
UID:10000078-1776970800-1776970800@holidaybaratl.com
SUMMARY:Sunset Sessions 🎶
DESCRIPTION:POV: You said you were going home after one drink … but Sunset Sessions is calling ! \nGolden hour hits. DJ behind the bar. Cocktail in hand. Pick up the phone & come on in! \nEvery Thursday 8PM – 12AM | This is your sign to romanticize your Thursday | DJ – Big Papito
URL:https://holidaybaratl.com/event/sunset-sessions-%f0%9f%8e%b6-2/
LOCATION:HOLIDAY
CATEGORIES:Listening Party
ATTACH;FMTTYPE=image/png:https://holidaybaratl.com/wp-content/uploads/2026/02/Retro-Italian-Travel-Brochure-Flyer.png
END:VEVENT
BEGIN:VEVENT
DTSTART;TZID=UTC:20260425T120000
DTEND;TZID=UTC:20260425T160000
DTSTAMP:20260423T083226
CREATED:20260420T211716Z
LAST-MODIFIED:20260421T205910Z
UID:10000340-1777118400-1777132800@holidaybaratl.com
SUMMARY:Issa Picnic - National Picnic Day 🥂 🧺
DESCRIPTION:Issa Picnic 🥂 🧺☀️🍾 \nJoin us for a curated picnic experience designed for a relaxed afternoon of food\, drinks\, and atmosphere ☀️🍾 Set at Interlock Highland Park off the B-Line\, this daytime event blends a social picnic with interactive elements and elevated touches. \nEach ticket includes a full picnic setup and access to all featured activations. Guests will receive a blanket\, a bottle of Viarea Prosecco\, and a prepared sandwich along with entry to a build-your-own wine glass bar with decorative elements and customization options. A toppings and accoutrements station will be available to enhance your experience! \nA live DJ will keep the energy laid-back and consistent all afternoon 🎶 \nEvent Details\nDate: April 25\, 2026\nTime: 12:00 PM – 4:00 PM\nLocation: Interlock Highland Park (off the B-Line) 📍 \nSponsored by Viarea Prosecco. Hosted by Holiday Bar. \nThis is a limited-capacity event. Tickets include all listed inclusions 🎟️
URL:https://holidaybaratl.com/event/issa-picnic-national-picnic-day-%f0%9f%a5%82-%f0%9f%a7%ba/
LOCATION:Interlock’s Highline Park\, 1115 Howell Mill Rd\, Atlanta\, GA\, 30318\, United States
CATEGORIES:Holiday
ATTACH;FMTTYPE=image/png:https://holidaybaratl.com/wp-content/uploads/2026/04/Cheerful-Italian-Picnic-Brochure.png
GEO:33.784903;-84.411132
X-APPLE-STRUCTURED-LOCATION;VALUE=URI;X-ADDRESS=Interlock’s Highline Park 1115 Howell Mill Rd Atlanta GA 30318 United States;X-APPLE-RADIUS=500;X-TITLE=1115 Howell Mill Rd:geo:-84.411132,33.784903
END:VEVENT
BEGIN:VEVENT
DTSTART;TZID=America/New_York:20260430T190000
DTEND;TZID=America/New_York:20260430T190000
DTSTAMP:20260423T083226
CREATED:20260225T220515Z
LAST-MODIFIED:20260414T232108Z
UID:10000079-1777575600-1777575600@holidaybaratl.com
SUMMARY:Sunset Sessions 🎶
DESCRIPTION:POV: You said you were going home after one drink … but Sunset Sessions is calling ! \nGolden hour hits. DJ behind the bar. Cocktail in hand. Pick up the phone & come on in! \nEvery Thursday 7PM – 12AM | This is your sign to romanticize your Thursday 
URL:https://holidaybaratl.com/event/sunset-sessions-%f0%9f%8e%b6/2026-04-30/
LOCATION:HOLIDAY
CATEGORIES:Listening Party
ATTACH;FMTTYPE=image/png:https://holidaybaratl.com/wp-content/uploads/2026/02/Sunset-Sessions-Spain-Instagram-Story.png
END:VEVENT
BEGIN:VEVENT
DTSTART;TZID=America/New_York:20260507T190000
DTEND;TZID=America/New_York:20260507T190000
DTSTAMP:20260423T083226
CREATED:20260225T220515Z
LAST-MODIFIED:20260414T232108Z
UID:10000080-1778180400-1778180400@holidaybaratl.com
SUMMARY:Sunset Sessions 🎶
DESCRIPTION:POV: You said you were going home after one drink … but Sunset Sessions is calling ! \nGolden hour hits. DJ behind the bar. Cocktail in hand. Pick up the phone & come on in! \nEvery Thursday 7PM – 12AM | This is your sign to romanticize your Thursday 
URL:https://holidaybaratl.com/event/sunset-sessions-%f0%9f%8e%b6/2026-05-07/
LOCATION:HOLIDAY
CATEGORIES:Listening Party
ATTACH;FMTTYPE=image/png:https://holidaybaratl.com/wp-content/uploads/2026/02/Sunset-Sessions-Spain-Instagram-Story.png
END:VEVENT
BEGIN:VEVENT
DTSTART;TZID=America/New_York:20260514T190000
DTEND;TZID=America/New_York:20260514T190000
DTSTAMP:20260423T083226
CREATED:20260225T220515Z
LAST-MODIFIED:20260414T232108Z
UID:10000081-1778785200-1778785200@holidaybaratl.com
SUMMARY:Sunset Sessions 🎶
DESCRIPTION:POV: You said you were going home after one drink … but Sunset Sessions is calling ! \nGolden hour hits. DJ behind the bar. Cocktail in hand. Pick up the phone & come on in! \nEvery Thursday 7PM – 12AM | This is your sign to romanticize your Thursday 
URL:https://holidaybaratl.com/event/sunset-sessions-%f0%9f%8e%b6/2026-05-14/
LOCATION:HOLIDAY
CATEGORIES:Listening Party
ATTACH;FMTTYPE=image/png:https://holidaybaratl.com/wp-content/uploads/2026/02/Sunset-Sessions-Spain-Instagram-Story.png
END:VEVENT
BEGIN:VEVENT
DTSTART;TZID=America/New_York:20260521T190000
DTEND;TZID=America/New_York:20260521T190000
DTSTAMP:20260423T083226
CREATED:20260225T220515Z
LAST-MODIFIED:20260414T232108Z
UID:10000082-1779390000-1779390000@holidaybaratl.com
SUMMARY:Sunset Sessions 🎶
DESCRIPTION:POV: You said you were going home after one drink … but Sunset Sessions is calling ! \nGolden hour hits. DJ behind the bar. Cocktail in hand. Pick up the phone & come on in! \nEvery Thursday 7PM – 12AM | This is your sign to romanticize your Thursday 
URL:https://holidaybaratl.com/event/sunset-sessions-%f0%9f%8e%b6/2026-05-21/
LOCATION:HOLIDAY
CATEGORIES:Listening Party
ATTACH;FMTTYPE=image/png:https://holidaybaratl.com/wp-content/uploads/2026/02/Sunset-Sessions-Spain-Instagram-Story.png
END:VEVENT
BEGIN:VEVENT
DTSTART;TZID=America/New_York:20260528T190000
DTEND;TZID=America/New_York:20260528T190000
DTSTAMP:20260423T083226
CREATED:20260225T220515Z
LAST-MODIFIED:20260414T232108Z
UID:10000083-1779994800-1779994800@holidaybaratl.com
SUMMARY:Sunset Sessions 🎶
DESCRIPTION:POV: You said you were going home after one drink … but Sunset Sessions is calling ! \nGolden hour hits. DJ behind the bar. Cocktail in hand. Pick up the phone & come on in! \nEvery Thursday 7PM – 12AM | This is your sign to romanticize your Thursday 
URL:https://holidaybaratl.com/event/sunset-sessions-%f0%9f%8e%b6/2026-05-28/
LOCATION:HOLIDAY
CATEGORIES:Listening Party
ATTACH;FMTTYPE=image/png:https://holidaybaratl.com/wp-content/uploads/2026/02/Sunset-Sessions-Spain-Instagram-Story.png
END:VEVENT
BEGIN:VEVENT
DTSTART;TZID=America/New_York:20260604T190000
DTEND;TZID=America/New_York:20260604T190000
DTSTAMP:20260423T083226
CREATED:20260225T220515Z
LAST-MODIFIED:20260414T232108Z
UID:10000084-1780599600-1780599600@holidaybaratl.com
SUMMARY:Sunset Sessions 🎶
DESCRIPTION:POV: You said you were going home after one drink … but Sunset Sessions is calling ! \nGolden hour hits. DJ behind the bar. Cocktail in hand. Pick up the phone & come on in! \nEvery Thursday 7PM – 12AM | This is your sign to romanticize your Thursday 
URL:https://holidaybaratl.com/event/sunset-sessions-%f0%9f%8e%b6/2026-06-04/
LOCATION:HOLIDAY
CATEGORIES:Listening Party
ATTACH;FMTTYPE=image/png:https://holidaybaratl.com/wp-content/uploads/2026/02/Sunset-Sessions-Spain-Instagram-Story.png
END:VEVENT
BEGIN:VEVENT
DTSTART;TZID=America/New_York:20260611T190000
DTEND;TZID=America/New_York:20260611T190000
DTSTAMP:20260423T083226
CREATED:20260225T220515Z
LAST-MODIFIED:20260414T232108Z
UID:10000085-1781204400-1781204400@holidaybaratl.com
SUMMARY:Sunset Sessions 🎶
DESCRIPTION:POV: You said you were going home after one drink … but Sunset Sessions is calling ! \nGolden hour hits. DJ behind the bar. Cocktail in hand. Pick up the phone & come on in! \nEvery Thursday 7PM – 12AM | This is your sign to romanticize your Thursday 
URL:https://holidaybaratl.com/event/sunset-sessions-%f0%9f%8e%b6/2026-06-11/
LOCATION:HOLIDAY
CATEGORIES:Listening Party
ATTACH;FMTTYPE=image/png:https://holidaybaratl.com/wp-content/uploads/2026/02/Sunset-Sessions-Spain-Instagram-Story.png
END:VEVENT
BEGIN:VEVENT
DTSTART;TZID=America/New_York:20260618T190000
DTEND;TZID=America/New_York:20260618T190000
DTSTAMP:20260423T083226
CREATED:20260225T220515Z
LAST-MODIFIED:20260414T232108Z
UID:10000086-1781809200-1781809200@holidaybaratl.com
SUMMARY:Sunset Sessions 🎶
DESCRIPTION:POV: You said you were going home after one drink … but Sunset Sessions is calling ! \nGolden hour hits. DJ behind the bar. Cocktail in hand. Pick up the phone & come on in! \nEvery Thursday 7PM – 12AM | This is your sign to romanticize your Thursday 
URL:https://holidaybaratl.com/event/sunset-sessions-%f0%9f%8e%b6/2026-06-18/
LOCATION:HOLIDAY
CATEGORIES:Listening Party
ATTACH;FMTTYPE=image/png:https://holidaybaratl.com/wp-content/uploads/2026/02/Sunset-Sessions-Spain-Instagram-Story.png
END:VEVENT
BEGIN:VEVENT
DTSTART;TZID=America/New_York:20260625T190000
DTEND;TZID=America/New_York:20260625T190000
DTSTAMP:20260423T083226
CREATED:20260225T220515Z
LAST-MODIFIED:20260414T232108Z
UID:10000087-1782414000-1782414000@holidaybaratl.com
SUMMARY:Sunset Sessions 🎶
DESCRIPTION:POV: You said you were going home after one drink … but Sunset Sessions is calling ! \nGolden hour hits. DJ behind the bar. Cocktail in hand. Pick up the phone & come on in! \nEvery Thursday 7PM – 12AM | This is your sign to romanticize your Thursday 
URL:https://holidaybaratl.com/event/sunset-sessions-%f0%9f%8e%b6/2026-06-25/
LOCATION:HOLIDAY
CATEGORIES:Listening Party
ATTACH;FMTTYPE=image/png:https://holidaybaratl.com/wp-content/uploads/2026/02/Sunset-Sessions-Spain-Instagram-Story.png
END:VEVENT
BEGIN:VEVENT
DTSTART;TZID=America/New_York:20260702T190000
DTEND;TZID=America/New_York:20260702T190000
DTSTAMP:20260423T083226
CREATED:20260225T220515Z
LAST-MODIFIED:20260414T232108Z
UID:10000088-1783018800-1783018800@holidaybaratl.com
SUMMARY:Sunset Sessions 🎶
DESCRIPTION:POV: You said you were going home after one drink … but Sunset Sessions is calling ! \nGolden hour hits. DJ behind the bar. Cocktail in hand. Pick up the phone & come on in! \nEvery Thursday 7PM – 12AM | This is your sign to romanticize your Thursday 
URL:https://holidaybaratl.com/event/sunset-sessions-%f0%9f%8e%b6/2026-07-02/
LOCATION:HOLIDAY
CATEGORIES:Listening Party
ATTACH;FMTTYPE=image/png:https://holidaybaratl.com/wp-content/uploads/2026/02/Sunset-Sessions-Spain-Instagram-Story.png
END:VEVENT
BEGIN:VEVENT
DTSTART;TZID=America/New_York:20260709T190000
DTEND;TZID=America/New_York:20260709T190000
DTSTAMP:20260423T083226
CREATED:20260225T220515Z
LAST-MODIFIED:20260414T232108Z
UID:10000089-1783623600-1783623600@holidaybaratl.com
SUMMARY:Sunset Sessions 🎶
DESCRIPTION:POV: You said you were going home after one drink … but Sunset Sessions is calling ! \nGolden hour hits. DJ behind the bar. Cocktail in hand. Pick up the phone & come on in! \nEvery Thursday 7PM – 12AM | This is your sign to romanticize your Thursday 
URL:https://holidaybaratl.com/event/sunset-sessions-%f0%9f%8e%b6/2026-07-09/
LOCATION:HOLIDAY
CATEGORIES:Listening Party
ATTACH;FMTTYPE=image/png:https://holidaybaratl.com/wp-content/uploads/2026/02/Sunset-Sessions-Spain-Instagram-Story.png
END:VEVENT
BEGIN:VEVENT
DTSTART;TZID=America/New_York:20260716T190000
DTEND;TZID=America/New_York:20260716T190000
DTSTAMP:20260423T083226
CREATED:20260225T220515Z
LAST-MODIFIED:20260414T232108Z
UID:10000090-1784228400-1784228400@holidaybaratl.com
SUMMARY:Sunset Sessions 🎶
DESCRIPTION:POV: You said you were going home after one drink … but Sunset Sessions is calling ! \nGolden hour hits. DJ behind the bar. Cocktail in hand. Pick up the phone & come on in! \nEvery Thursday 7PM – 12AM | This is your sign to romanticize your Thursday 
URL:https://holidaybaratl.com/event/sunset-sessions-%f0%9f%8e%b6/2026-07-16/
LOCATION:HOLIDAY
CATEGORIES:Listening Party
ATTACH;FMTTYPE=image/png:https://holidaybaratl.com/wp-content/uploads/2026/02/Sunset-Sessions-Spain-Instagram-Story.png
END:VEVENT
BEGIN:VEVENT
DTSTART;TZID=America/New_York:20260723T190000
DTEND;TZID=America/New_York:20260723T190000
DTSTAMP:20260423T083226
CREATED:20260225T220515Z
LAST-MODIFIED:20260414T232108Z
UID:10000091-1784833200-1784833200@holidaybaratl.com
SUMMARY:Sunset Sessions 🎶
DESCRIPTION:POV: You said you were going home after one drink … but Sunset Sessions is calling ! \nGolden hour hits. DJ behind the bar. Cocktail in hand. Pick up the phone & come on in! \nEvery Thursday 7PM – 12AM | This is your sign to romanticize your Thursday 
URL:https://holidaybaratl.com/event/sunset-sessions-%f0%9f%8e%b6/2026-07-23/
LOCATION:HOLIDAY
CATEGORIES:Listening Party
ATTACH;FMTTYPE=image/png:https://holidaybaratl.com/wp-content/uploads/2026/02/Sunset-Sessions-Spain-Instagram-Story.png
END:VEVENT
BEGIN:VEVENT
DTSTART;TZID=America/New_York:20260730T190000
DTEND;TZID=America/New_York:20260730T190000
DTSTAMP:20260423T083226
CREATED:20260225T220515Z
LAST-MODIFIED:20260414T232108Z
UID:10000092-1785438000-1785438000@holidaybaratl.com
SUMMARY:Sunset Sessions 🎶
DESCRIPTION:POV: You said you were going home after one drink … but Sunset Sessions is calling ! \nGolden hour hits. DJ behind the bar. Cocktail in hand. Pick up the phone & come on in! \nEvery Thursday 7PM – 12AM | This is your sign to romanticize your Thursday 
URL:https://holidaybaratl.com/event/sunset-sessions-%f0%9f%8e%b6/2026-07-30/
LOCATION:HOLIDAY
CATEGORIES:Listening Party
ATTACH;FMTTYPE=image/png:https://holidaybaratl.com/wp-content/uploads/2026/02/Sunset-Sessions-Spain-Instagram-Story.png
END:VEVENT
BEGIN:VEVENT
DTSTART;TZID=America/New_York:20260806T190000
DTEND;TZID=America/New_York:20260806T190000
DTSTAMP:20260423T083226
CREATED:20260225T220515Z
LAST-MODIFIED:20260414T232108Z
UID:10000093-1786042800-1786042800@holidaybaratl.com
SUMMARY:Sunset Sessions 🎶
DESCRIPTION:POV: You said you were going home after one drink … but Sunset Sessions is calling ! \nGolden hour hits. DJ behind the bar. Cocktail in hand. Pick up the phone & come on in! \nEvery Thursday 7PM – 12AM | This is your sign to romanticize your Thursday 
URL:https://holidaybaratl.com/event/sunset-sessions-%f0%9f%8e%b6/2026-08-06/
LOCATION:HOLIDAY
CATEGORIES:Listening Party
ATTACH;FMTTYPE=image/png:https://holidaybaratl.com/wp-content/uploads/2026/02/Sunset-Sessions-Spain-Instagram-Story.png
END:VEVENT
BEGIN:VEVENT
DTSTART;TZID=America/New_York:20260813T190000
DTEND;TZID=America/New_York:20260813T190000
DTSTAMP:20260423T083226
CREATED:20260225T220515Z
LAST-MODIFIED:20260414T232108Z
UID:10000094-1786647600-1786647600@holidaybaratl.com
SUMMARY:Sunset Sessions 🎶
DESCRIPTION:POV: You said you were going home after one drink … but Sunset Sessions is calling ! \nGolden hour hits. DJ behind the bar. Cocktail in hand. Pick up the phone & come on in! \nEvery Thursday 7PM – 12AM | This is your sign to romanticize your Thursday 
URL:https://holidaybaratl.com/event/sunset-sessions-%f0%9f%8e%b6/2026-08-13/
LOCATION:HOLIDAY
CATEGORIES:Listening Party
ATTACH;FMTTYPE=image/png:https://holidaybaratl.com/wp-content/uploads/2026/02/Sunset-Sessions-Spain-Instagram-Story.png
END:VEVENT
BEGIN:VEVENT
DTSTART;TZID=America/New_York:20260820T190000
DTEND;TZID=America/New_York:20260820T190000
DTSTAMP:20260423T083226
CREATED:20260225T220515Z
LAST-MODIFIED:20260414T232108Z
UID:10000095-1787252400-1787252400@holidaybaratl.com
SUMMARY:Sunset Sessions 🎶
DESCRIPTION:POV: You said you were going home after one drink … but Sunset Sessions is calling ! \nGolden hour hits. DJ behind the bar. Cocktail in hand. Pick up the phone & come on in! \nEvery Thursday 7PM – 12AM | This is your sign to romanticize your Thursday 
URL:https://holidaybaratl.com/event/sunset-sessions-%f0%9f%8e%b6/2026-08-20/
LOCATION:HOLIDAY
CATEGORIES:Listening Party
ATTACH;FMTTYPE=image/png:https://holidaybaratl.com/wp-content/uploads/2026/02/Sunset-Sessions-Spain-Instagram-Story.png
END:VEVENT
BEGIN:VEVENT
DTSTART;TZID=America/New_York:20260827T190000
DTEND;TZID=America/New_York:20260827T190000
DTSTAMP:20260423T083226
CREATED:20260225T220515Z
LAST-MODIFIED:20260414T232108Z
UID:10000096-1787857200-1787857200@holidaybaratl.com
SUMMARY:Sunset Sessions 🎶
DESCRIPTION:POV: You said you were going home after one drink … but Sunset Sessions is calling ! \nGolden hour hits. DJ behind the bar. Cocktail in hand. Pick up the phone & come on in! \nEvery Thursday 7PM – 12AM | This is your sign to romanticize your Thursday 
URL:https://holidaybaratl.com/event/sunset-sessions-%f0%9f%8e%b6/2026-08-27/
LOCATION:HOLIDAY
CATEGORIES:Listening Party
ATTACH;FMTTYPE=image/png:https://holidaybaratl.com/wp-content/uploads/2026/02/Sunset-Sessions-Spain-Instagram-Story.png
END:VEVENT
BEGIN:VEVENT
DTSTART;TZID=America/New_York:20260903T190000
DTEND;TZID=America/New_York:20260903T190000
DTSTAMP:20260423T083226
CREATED:20260225T220515Z
LAST-MODIFIED:20260414T232108Z
UID:10000097-1788462000-1788462000@holidaybaratl.com
SUMMARY:Sunset Sessions 🎶
DESCRIPTION:POV: You said you were going home after one drink … but Sunset Sessions is calling ! \nGolden hour hits. DJ behind the bar. Cocktail in hand. Pick up the phone & come on in! \nEvery Thursday 7PM – 12AM | This is your sign to romanticize your Thursday 
URL:https://holidaybaratl.com/event/sunset-sessions-%f0%9f%8e%b6/2026-09-03/
LOCATION:HOLIDAY
CATEGORIES:Listening Party
ATTACH;FMTTYPE=image/png:https://holidaybaratl.com/wp-content/uploads/2026/02/Sunset-Sessions-Spain-Instagram-Story.png
END:VEVENT
BEGIN:VEVENT
DTSTART;TZID=America/New_York:20260910T190000
DTEND;TZID=America/New_York:20260910T190000
DTSTAMP:20260423T083226
CREATED:20260225T220515Z
LAST-MODIFIED:20260414T232108Z
UID:10000098-1789066800-1789066800@holidaybaratl.com
SUMMARY:Sunset Sessions 🎶
DESCRIPTION:POV: You said you were going home after one drink … but Sunset Sessions is calling ! \nGolden hour hits. DJ behind the bar. Cocktail in hand. Pick up the phone & come on in! \nEvery Thursday 7PM – 12AM | This is your sign to romanticize your Thursday 
URL:https://holidaybaratl.com/event/sunset-sessions-%f0%9f%8e%b6/2026-09-10/
LOCATION:HOLIDAY
CATEGORIES:Listening Party
ATTACH;FMTTYPE=image/png:https://holidaybaratl.com/wp-content/uploads/2026/02/Sunset-Sessions-Spain-Instagram-Story.png
END:VEVENT
BEGIN:VEVENT
DTSTART;TZID=America/New_York:20260917T190000
DTEND;TZID=America/New_York:20260917T190000
DTSTAMP:20260423T083226
CREATED:20260225T220515Z
LAST-MODIFIED:20260414T232108Z
UID:10000099-1789671600-1789671600@holidaybaratl.com
SUMMARY:Sunset Sessions 🎶
DESCRIPTION:POV: You said you were going home after one drink … but Sunset Sessions is calling ! \nGolden hour hits. DJ behind the bar. Cocktail in hand. Pick up the phone & come on in! \nEvery Thursday 7PM – 12AM | This is your sign to romanticize your Thursday 
URL:https://holidaybaratl.com/event/sunset-sessions-%f0%9f%8e%b6/2026-09-17/
LOCATION:HOLIDAY
CATEGORIES:Listening Party
ATTACH;FMTTYPE=image/png:https://holidaybaratl.com/wp-content/uploads/2026/02/Sunset-Sessions-Spain-Instagram-Story.png
END:VEVENT
BEGIN:VEVENT
DTSTART;TZID=America/New_York:20260924T190000
DTEND;TZID=America/New_York:20260924T190000
DTSTAMP:20260423T083226
CREATED:20260225T220515Z
LAST-MODIFIED:20260414T232108Z
UID:10000100-1790276400-1790276400@holidaybaratl.com
SUMMARY:Sunset Sessions 🎶
DESCRIPTION:POV: You said you were going home after one drink … but Sunset Sessions is calling ! \nGolden hour hits. DJ behind the bar. Cocktail in hand. Pick up the phone & come on in! \nEvery Thursday 7PM – 12AM | This is your sign to romanticize your Thursday 
URL:https://holidaybaratl.com/event/sunset-sessions-%f0%9f%8e%b6/2026-09-24/
LOCATION:HOLIDAY
CATEGORIES:Listening Party
ATTACH;FMTTYPE=image/png:https://holidaybaratl.com/wp-content/uploads/2026/02/Sunset-Sessions-Spain-Instagram-Story.png
END:VEVENT
BEGIN:VEVENT
DTSTART;TZID=America/New_York:20261001T190000
DTEND;TZID=America/New_York:20261001T190000
DTSTAMP:20260423T083226
CREATED:20260225T220515Z
LAST-MODIFIED:20260414T232108Z
UID:10000101-1790881200-1790881200@holidaybaratl.com
SUMMARY:Sunset Sessions 🎶
DESCRIPTION:POV: You said you were going home after one drink … but Sunset Sessions is calling ! \nGolden hour hits. DJ behind the bar. Cocktail in hand. Pick up the phone & come on in! \nEvery Thursday 7PM – 12AM | This is your sign to romanticize your Thursday 
URL:https://holidaybaratl.com/event/sunset-sessions-%f0%9f%8e%b6/2026-10-01/
LOCATION:HOLIDAY
CATEGORIES:Listening Party
ATTACH;FMTTYPE=image/png:https://holidaybaratl.com/wp-content/uploads/2026/02/Sunset-Sessions-Spain-Instagram-Story.png
END:VEVENT
BEGIN:VEVENT
DTSTART;TZID=America/New_York:20261008T190000
DTEND;TZID=America/New_York:20261008T190000
DTSTAMP:20260423T083226
CREATED:20260225T220515Z
LAST-MODIFIED:20260414T232108Z
UID:10000102-1791486000-1791486000@holidaybaratl.com
SUMMARY:Sunset Sessions 🎶
DESCRIPTION:POV: You said you were going home after one drink … but Sunset Sessions is calling ! \nGolden hour hits. DJ behind the bar. Cocktail in hand. Pick up the phone & come on in! \nEvery Thursday 7PM – 12AM | This is your sign to romanticize your Thursday 
URL:https://holidaybaratl.com/event/sunset-sessions-%f0%9f%8e%b6/2026-10-08/
LOCATION:HOLIDAY
CATEGORIES:Listening Party
ATTACH;FMTTYPE=image/png:https://holidaybaratl.com/wp-content/uploads/2026/02/Sunset-Sessions-Spain-Instagram-Story.png
END:VEVENT
END:VCALENDAR