BEGIN:VCALENDAR
VERSION:2.0
PRODID:-//Holiday Bar - ECPv6.15.20//NONSGML v1.0//EN
CALSCALE:GREGORIAN
METHOD:PUBLISH
X-ORIGINAL-URL:https://holidaybaratl.com
X-WR-CALDESC:Events for Holiday Bar
REFRESH-INTERVAL;VALUE=DURATION:PT1H
X-Robots-Tag:noindex
X-PUBLISHED-TTL:PT1H
BEGIN:VTIMEZONE
TZID:America/New_York
BEGIN:DAYLIGHT
TZOFFSETFROM:-0500
TZOFFSETTO:-0400
TZNAME:EDT
DTSTART:20270314T070000
END:DAYLIGHT
BEGIN:STANDARD
TZOFFSETFROM:-0400
TZOFFSETTO:-0500
TZNAME:EST
DTSTART:20271107T060000
END:STANDARD
BEGIN:DAYLIGHT
TZOFFSETFROM:-0500
TZOFFSETTO:-0400
TZNAME:EDT
DTSTART:20280312T070000
END:DAYLIGHT
BEGIN:STANDARD
TZOFFSETFROM:-0400
TZOFFSETTO:-0500
TZNAME:EST
DTSTART:20281105T060000
END:STANDARD
BEGIN:DAYLIGHT
TZOFFSETFROM:-0500
TZOFFSETTO:-0400
TZNAME:EDT
DTSTART:20290311T070000
END:DAYLIGHT
BEGIN:STANDARD
TZOFFSETFROM:-0400
TZOFFSETTO:-0500
TZNAME:EST
DTSTART:20291104T060000
END:STANDARD
END:VTIMEZONE
BEGIN:VEVENT
DTSTART;TZID=America/New_York:20280406T190000
DTEND;TZID=America/New_York:20280406T190000
DTSTAMP:20260422T100626
CREATED:20260225T220515Z
LAST-MODIFIED:20260414T232108Z
UID:10000180-1838660400-1838660400@holidaybaratl.com
SUMMARY:Sunset Sessions 🎶
DESCRIPTION:POV: You said you were going home after one drink … but Sunset Sessions is calling ! \nGolden hour hits. DJ behind the bar. Cocktail in hand. Pick up the phone & come on in! \nEvery Thursday 7PM – 12AM | This is your sign to romanticize your Thursday 
URL:https://holidaybaratl.com/event/sunset-sessions-%f0%9f%8e%b6/2028-04-06/
LOCATION:HOLIDAY
CATEGORIES:Listening Party
ATTACH;FMTTYPE=image/png:https://holidaybaratl.com/wp-content/uploads/2026/02/Sunset-Sessions-Spain-Instagram-Story.png
END:VEVENT
BEGIN:VEVENT
DTSTART;TZID=America/New_York:20280413T190000
DTEND;TZID=America/New_York:20280413T190000
DTSTAMP:20260422T100626
CREATED:20260225T220515Z
LAST-MODIFIED:20260414T232108Z
UID:10000181-1839265200-1839265200@holidaybaratl.com
SUMMARY:Sunset Sessions 🎶
DESCRIPTION:POV: You said you were going home after one drink … but Sunset Sessions is calling ! \nGolden hour hits. DJ behind the bar. Cocktail in hand. Pick up the phone & come on in! \nEvery Thursday 7PM – 12AM | This is your sign to romanticize your Thursday 
URL:https://holidaybaratl.com/event/sunset-sessions-%f0%9f%8e%b6/2028-04-13/
LOCATION:HOLIDAY
CATEGORIES:Listening Party
ATTACH;FMTTYPE=image/png:https://holidaybaratl.com/wp-content/uploads/2026/02/Sunset-Sessions-Spain-Instagram-Story.png
END:VEVENT
BEGIN:VEVENT
DTSTART;TZID=America/New_York:20280420T190000
DTEND;TZID=America/New_York:20280420T190000
DTSTAMP:20260422T100626
CREATED:20260225T220515Z
LAST-MODIFIED:20260414T232108Z
UID:10000182-1839870000-1839870000@holidaybaratl.com
SUMMARY:Sunset Sessions 🎶
DESCRIPTION:POV: You said you were going home after one drink … but Sunset Sessions is calling ! \nGolden hour hits. DJ behind the bar. Cocktail in hand. Pick up the phone & come on in! \nEvery Thursday 7PM – 12AM | This is your sign to romanticize your Thursday 
URL:https://holidaybaratl.com/event/sunset-sessions-%f0%9f%8e%b6/2028-04-20/
LOCATION:HOLIDAY
CATEGORIES:Listening Party
ATTACH;FMTTYPE=image/png:https://holidaybaratl.com/wp-content/uploads/2026/02/Sunset-Sessions-Spain-Instagram-Story.png
END:VEVENT
BEGIN:VEVENT
DTSTART;TZID=America/New_York:20280427T190000
DTEND;TZID=America/New_York:20280427T190000
DTSTAMP:20260422T100626
CREATED:20260225T220515Z
LAST-MODIFIED:20260414T232108Z
UID:10000183-1840474800-1840474800@holidaybaratl.com
SUMMARY:Sunset Sessions 🎶
DESCRIPTION:POV: You said you were going home after one drink … but Sunset Sessions is calling ! \nGolden hour hits. DJ behind the bar. Cocktail in hand. Pick up the phone & come on in! \nEvery Thursday 7PM – 12AM | This is your sign to romanticize your Thursday 
URL:https://holidaybaratl.com/event/sunset-sessions-%f0%9f%8e%b6/2028-04-27/
LOCATION:HOLIDAY
CATEGORIES:Listening Party
ATTACH;FMTTYPE=image/png:https://holidaybaratl.com/wp-content/uploads/2026/02/Sunset-Sessions-Spain-Instagram-Story.png
END:VEVENT
BEGIN:VEVENT
DTSTART;TZID=America/New_York:20280504T190000
DTEND;TZID=America/New_York:20280504T190000
DTSTAMP:20260422T100626
CREATED:20260225T220515Z
LAST-MODIFIED:20260414T232108Z
UID:10000184-1841079600-1841079600@holidaybaratl.com
SUMMARY:Sunset Sessions 🎶
DESCRIPTION:POV: You said you were going home after one drink … but Sunset Sessions is calling ! \nGolden hour hits. DJ behind the bar. Cocktail in hand. Pick up the phone & come on in! \nEvery Thursday 7PM – 12AM | This is your sign to romanticize your Thursday 
URL:https://holidaybaratl.com/event/sunset-sessions-%f0%9f%8e%b6/2028-05-04/
LOCATION:HOLIDAY
CATEGORIES:Listening Party
ATTACH;FMTTYPE=image/png:https://holidaybaratl.com/wp-content/uploads/2026/02/Sunset-Sessions-Spain-Instagram-Story.png
END:VEVENT
BEGIN:VEVENT
DTSTART;TZID=America/New_York:20280511T190000
DTEND;TZID=America/New_York:20280511T190000
DTSTAMP:20260422T100626
CREATED:20260225T220515Z
LAST-MODIFIED:20260414T232108Z
UID:10000185-1841684400-1841684400@holidaybaratl.com
SUMMARY:Sunset Sessions 🎶
DESCRIPTION:POV: You said you were going home after one drink … but Sunset Sessions is calling ! \nGolden hour hits. DJ behind the bar. Cocktail in hand. Pick up the phone & come on in! \nEvery Thursday 7PM – 12AM | This is your sign to romanticize your Thursday 
URL:https://holidaybaratl.com/event/sunset-sessions-%f0%9f%8e%b6/2028-05-11/
LOCATION:HOLIDAY
CATEGORIES:Listening Party
ATTACH;FMTTYPE=image/png:https://holidaybaratl.com/wp-content/uploads/2026/02/Sunset-Sessions-Spain-Instagram-Story.png
END:VEVENT
BEGIN:VEVENT
DTSTART;TZID=America/New_York:20280518T190000
DTEND;TZID=America/New_York:20280518T190000
DTSTAMP:20260422T100626
CREATED:20260225T220515Z
LAST-MODIFIED:20260414T232108Z
UID:10000186-1842289200-1842289200@holidaybaratl.com
SUMMARY:Sunset Sessions 🎶
DESCRIPTION:POV: You said you were going home after one drink … but Sunset Sessions is calling ! \nGolden hour hits. DJ behind the bar. Cocktail in hand. Pick up the phone & come on in! \nEvery Thursday 7PM – 12AM | This is your sign to romanticize your Thursday 
URL:https://holidaybaratl.com/event/sunset-sessions-%f0%9f%8e%b6/2028-05-18/
LOCATION:HOLIDAY
CATEGORIES:Listening Party
ATTACH;FMTTYPE=image/png:https://holidaybaratl.com/wp-content/uploads/2026/02/Sunset-Sessions-Spain-Instagram-Story.png
END:VEVENT
BEGIN:VEVENT
DTSTART;TZID=America/New_York:20280525T190000
DTEND;TZID=America/New_York:20280525T190000
DTSTAMP:20260422T100626
CREATED:20260225T220515Z
LAST-MODIFIED:20260414T232108Z
UID:10000187-1842894000-1842894000@holidaybaratl.com
SUMMARY:Sunset Sessions 🎶
DESCRIPTION:POV: You said you were going home after one drink … but Sunset Sessions is calling ! \nGolden hour hits. DJ behind the bar. Cocktail in hand. Pick up the phone & come on in! \nEvery Thursday 7PM – 12AM | This is your sign to romanticize your Thursday 
URL:https://holidaybaratl.com/event/sunset-sessions-%f0%9f%8e%b6/2028-05-25/
LOCATION:HOLIDAY
CATEGORIES:Listening Party
ATTACH;FMTTYPE=image/png:https://holidaybaratl.com/wp-content/uploads/2026/02/Sunset-Sessions-Spain-Instagram-Story.png
END:VEVENT
BEGIN:VEVENT
DTSTART;TZID=America/New_York:20280601T190000
DTEND;TZID=America/New_York:20280601T190000
DTSTAMP:20260422T100626
CREATED:20260225T220515Z
LAST-MODIFIED:20260414T232108Z
UID:10000188-1843498800-1843498800@holidaybaratl.com
SUMMARY:Sunset Sessions 🎶
DESCRIPTION:POV: You said you were going home after one drink … but Sunset Sessions is calling ! \nGolden hour hits. DJ behind the bar. Cocktail in hand. Pick up the phone & come on in! \nEvery Thursday 7PM – 12AM | This is your sign to romanticize your Thursday 
URL:https://holidaybaratl.com/event/sunset-sessions-%f0%9f%8e%b6/2028-06-01/
LOCATION:HOLIDAY
CATEGORIES:Listening Party
ATTACH;FMTTYPE=image/png:https://holidaybaratl.com/wp-content/uploads/2026/02/Sunset-Sessions-Spain-Instagram-Story.png
END:VEVENT
BEGIN:VEVENT
DTSTART;TZID=America/New_York:20280608T190000
DTEND;TZID=America/New_York:20280608T190000
DTSTAMP:20260422T100626
CREATED:20260225T220515Z
LAST-MODIFIED:20260414T232108Z
UID:10000189-1844103600-1844103600@holidaybaratl.com
SUMMARY:Sunset Sessions 🎶
DESCRIPTION:POV: You said you were going home after one drink … but Sunset Sessions is calling ! \nGolden hour hits. DJ behind the bar. Cocktail in hand. Pick up the phone & come on in! \nEvery Thursday 7PM – 12AM | This is your sign to romanticize your Thursday 
URL:https://holidaybaratl.com/event/sunset-sessions-%f0%9f%8e%b6/2028-06-08/
LOCATION:HOLIDAY
CATEGORIES:Listening Party
ATTACH;FMTTYPE=image/png:https://holidaybaratl.com/wp-content/uploads/2026/02/Sunset-Sessions-Spain-Instagram-Story.png
END:VEVENT
BEGIN:VEVENT
DTSTART;TZID=America/New_York:20280615T190000
DTEND;TZID=America/New_York:20280615T190000
DTSTAMP:20260422T100626
CREATED:20260225T220515Z
LAST-MODIFIED:20260414T232108Z
UID:10000190-1844708400-1844708400@holidaybaratl.com
SUMMARY:Sunset Sessions 🎶
DESCRIPTION:POV: You said you were going home after one drink … but Sunset Sessions is calling ! \nGolden hour hits. DJ behind the bar. Cocktail in hand. Pick up the phone & come on in! \nEvery Thursday 7PM – 12AM | This is your sign to romanticize your Thursday 
URL:https://holidaybaratl.com/event/sunset-sessions-%f0%9f%8e%b6/2028-06-15/
LOCATION:HOLIDAY
CATEGORIES:Listening Party
ATTACH;FMTTYPE=image/png:https://holidaybaratl.com/wp-content/uploads/2026/02/Sunset-Sessions-Spain-Instagram-Story.png
END:VEVENT
BEGIN:VEVENT
DTSTART;TZID=America/New_York:20280622T190000
DTEND;TZID=America/New_York:20280622T190000
DTSTAMP:20260422T100626
CREATED:20260225T220515Z
LAST-MODIFIED:20260414T232108Z
UID:10000191-1845313200-1845313200@holidaybaratl.com
SUMMARY:Sunset Sessions 🎶
DESCRIPTION:POV: You said you were going home after one drink … but Sunset Sessions is calling ! \nGolden hour hits. DJ behind the bar. Cocktail in hand. Pick up the phone & come on in! \nEvery Thursday 7PM – 12AM | This is your sign to romanticize your Thursday 
URL:https://holidaybaratl.com/event/sunset-sessions-%f0%9f%8e%b6/2028-06-22/
LOCATION:HOLIDAY
CATEGORIES:Listening Party
ATTACH;FMTTYPE=image/png:https://holidaybaratl.com/wp-content/uploads/2026/02/Sunset-Sessions-Spain-Instagram-Story.png
END:VEVENT
BEGIN:VEVENT
DTSTART;TZID=America/New_York:20280629T190000
DTEND;TZID=America/New_York:20280629T190000
DTSTAMP:20260422T100626
CREATED:20260225T220515Z
LAST-MODIFIED:20260414T232108Z
UID:10000192-1845918000-1845918000@holidaybaratl.com
SUMMARY:Sunset Sessions 🎶
DESCRIPTION:POV: You said you were going home after one drink … but Sunset Sessions is calling ! \nGolden hour hits. DJ behind the bar. Cocktail in hand. Pick up the phone & come on in! \nEvery Thursday 7PM – 12AM | This is your sign to romanticize your Thursday 
URL:https://holidaybaratl.com/event/sunset-sessions-%f0%9f%8e%b6/2028-06-29/
LOCATION:HOLIDAY
CATEGORIES:Listening Party
ATTACH;FMTTYPE=image/png:https://holidaybaratl.com/wp-content/uploads/2026/02/Sunset-Sessions-Spain-Instagram-Story.png
END:VEVENT
BEGIN:VEVENT
DTSTART;TZID=America/New_York:20280706T190000
DTEND;TZID=America/New_York:20280706T190000
DTSTAMP:20260422T100626
CREATED:20260225T220515Z
LAST-MODIFIED:20260414T232108Z
UID:10000193-1846522800-1846522800@holidaybaratl.com
SUMMARY:Sunset Sessions 🎶
DESCRIPTION:POV: You said you were going home after one drink … but Sunset Sessions is calling ! \nGolden hour hits. DJ behind the bar. Cocktail in hand. Pick up the phone & come on in! \nEvery Thursday 7PM – 12AM | This is your sign to romanticize your Thursday 
URL:https://holidaybaratl.com/event/sunset-sessions-%f0%9f%8e%b6/2028-07-06/
LOCATION:HOLIDAY
CATEGORIES:Listening Party
ATTACH;FMTTYPE=image/png:https://holidaybaratl.com/wp-content/uploads/2026/02/Sunset-Sessions-Spain-Instagram-Story.png
END:VEVENT
BEGIN:VEVENT
DTSTART;TZID=America/New_York:20280713T190000
DTEND;TZID=America/New_York:20280713T190000
DTSTAMP:20260422T100626
CREATED:20260225T220515Z
LAST-MODIFIED:20260414T232108Z
UID:10000194-1847127600-1847127600@holidaybaratl.com
SUMMARY:Sunset Sessions 🎶
DESCRIPTION:POV: You said you were going home after one drink … but Sunset Sessions is calling ! \nGolden hour hits. DJ behind the bar. Cocktail in hand. Pick up the phone & come on in! \nEvery Thursday 7PM – 12AM | This is your sign to romanticize your Thursday 
URL:https://holidaybaratl.com/event/sunset-sessions-%f0%9f%8e%b6/2028-07-13/
LOCATION:HOLIDAY
CATEGORIES:Listening Party
ATTACH;FMTTYPE=image/png:https://holidaybaratl.com/wp-content/uploads/2026/02/Sunset-Sessions-Spain-Instagram-Story.png
END:VEVENT
BEGIN:VEVENT
DTSTART;TZID=America/New_York:20280720T190000
DTEND;TZID=America/New_York:20280720T190000
DTSTAMP:20260422T100626
CREATED:20260225T220515Z
LAST-MODIFIED:20260414T232108Z
UID:10000195-1847732400-1847732400@holidaybaratl.com
SUMMARY:Sunset Sessions 🎶
DESCRIPTION:POV: You said you were going home after one drink … but Sunset Sessions is calling ! \nGolden hour hits. DJ behind the bar. Cocktail in hand. Pick up the phone & come on in! \nEvery Thursday 7PM – 12AM | This is your sign to romanticize your Thursday 
URL:https://holidaybaratl.com/event/sunset-sessions-%f0%9f%8e%b6/2028-07-20/
LOCATION:HOLIDAY
CATEGORIES:Listening Party
ATTACH;FMTTYPE=image/png:https://holidaybaratl.com/wp-content/uploads/2026/02/Sunset-Sessions-Spain-Instagram-Story.png
END:VEVENT
BEGIN:VEVENT
DTSTART;TZID=America/New_York:20280727T190000
DTEND;TZID=America/New_York:20280727T190000
DTSTAMP:20260422T100626
CREATED:20260225T220515Z
LAST-MODIFIED:20260414T232108Z
UID:10000196-1848337200-1848337200@holidaybaratl.com
SUMMARY:Sunset Sessions 🎶
DESCRIPTION:POV: You said you were going home after one drink … but Sunset Sessions is calling ! \nGolden hour hits. DJ behind the bar. Cocktail in hand. Pick up the phone & come on in! \nEvery Thursday 7PM – 12AM | This is your sign to romanticize your Thursday 
URL:https://holidaybaratl.com/event/sunset-sessions-%f0%9f%8e%b6/2028-07-27/
LOCATION:HOLIDAY
CATEGORIES:Listening Party
ATTACH;FMTTYPE=image/png:https://holidaybaratl.com/wp-content/uploads/2026/02/Sunset-Sessions-Spain-Instagram-Story.png
END:VEVENT
BEGIN:VEVENT
DTSTART;TZID=America/New_York:20280803T190000
DTEND;TZID=America/New_York:20280803T190000
DTSTAMP:20260422T100626
CREATED:20260225T220515Z
LAST-MODIFIED:20260414T232108Z
UID:10000197-1848942000-1848942000@holidaybaratl.com
SUMMARY:Sunset Sessions 🎶
DESCRIPTION:POV: You said you were going home after one drink … but Sunset Sessions is calling ! \nGolden hour hits. DJ behind the bar. Cocktail in hand. Pick up the phone & come on in! \nEvery Thursday 7PM – 12AM | This is your sign to romanticize your Thursday 
URL:https://holidaybaratl.com/event/sunset-sessions-%f0%9f%8e%b6/2028-08-03/
LOCATION:HOLIDAY
CATEGORIES:Listening Party
ATTACH;FMTTYPE=image/png:https://holidaybaratl.com/wp-content/uploads/2026/02/Sunset-Sessions-Spain-Instagram-Story.png
END:VEVENT
BEGIN:VEVENT
DTSTART;TZID=America/New_York:20280810T190000
DTEND;TZID=America/New_York:20280810T190000
DTSTAMP:20260422T100626
CREATED:20260225T220515Z
LAST-MODIFIED:20260414T232108Z
UID:10000198-1849546800-1849546800@holidaybaratl.com
SUMMARY:Sunset Sessions 🎶
DESCRIPTION:POV: You said you were going home after one drink … but Sunset Sessions is calling ! \nGolden hour hits. DJ behind the bar. Cocktail in hand. Pick up the phone & come on in! \nEvery Thursday 7PM – 12AM | This is your sign to romanticize your Thursday 
URL:https://holidaybaratl.com/event/sunset-sessions-%f0%9f%8e%b6/2028-08-10/
LOCATION:HOLIDAY
CATEGORIES:Listening Party
ATTACH;FMTTYPE=image/png:https://holidaybaratl.com/wp-content/uploads/2026/02/Sunset-Sessions-Spain-Instagram-Story.png
END:VEVENT
BEGIN:VEVENT
DTSTART;TZID=America/New_York:20280817T190000
DTEND;TZID=America/New_York:20280817T190000
DTSTAMP:20260422T100626
CREATED:20260225T220515Z
LAST-MODIFIED:20260414T232108Z
UID:10000199-1850151600-1850151600@holidaybaratl.com
SUMMARY:Sunset Sessions 🎶
DESCRIPTION:POV: You said you were going home after one drink … but Sunset Sessions is calling ! \nGolden hour hits. DJ behind the bar. Cocktail in hand. Pick up the phone & come on in! \nEvery Thursday 7PM – 12AM | This is your sign to romanticize your Thursday 
URL:https://holidaybaratl.com/event/sunset-sessions-%f0%9f%8e%b6/2028-08-17/
LOCATION:HOLIDAY
CATEGORIES:Listening Party
ATTACH;FMTTYPE=image/png:https://holidaybaratl.com/wp-content/uploads/2026/02/Sunset-Sessions-Spain-Instagram-Story.png
END:VEVENT
BEGIN:VEVENT
DTSTART;TZID=America/New_York:20280824T190000
DTEND;TZID=America/New_York:20280824T190000
DTSTAMP:20260422T100626
CREATED:20260225T220515Z
LAST-MODIFIED:20260414T232108Z
UID:10000200-1850756400-1850756400@holidaybaratl.com
SUMMARY:Sunset Sessions 🎶
DESCRIPTION:POV: You said you were going home after one drink … but Sunset Sessions is calling ! \nGolden hour hits. DJ behind the bar. Cocktail in hand. Pick up the phone & come on in! \nEvery Thursday 7PM – 12AM | This is your sign to romanticize your Thursday 
URL:https://holidaybaratl.com/event/sunset-sessions-%f0%9f%8e%b6/2028-08-24/
LOCATION:HOLIDAY
CATEGORIES:Listening Party
ATTACH;FMTTYPE=image/png:https://holidaybaratl.com/wp-content/uploads/2026/02/Sunset-Sessions-Spain-Instagram-Story.png
END:VEVENT
BEGIN:VEVENT
DTSTART;TZID=America/New_York:20280831T190000
DTEND;TZID=America/New_York:20280831T190000
DTSTAMP:20260422T100626
CREATED:20260225T220515Z
LAST-MODIFIED:20260414T232108Z
UID:10000201-1851361200-1851361200@holidaybaratl.com
SUMMARY:Sunset Sessions 🎶
DESCRIPTION:POV: You said you were going home after one drink … but Sunset Sessions is calling ! \nGolden hour hits. DJ behind the bar. Cocktail in hand. Pick up the phone & come on in! \nEvery Thursday 7PM – 12AM | This is your sign to romanticize your Thursday 
URL:https://holidaybaratl.com/event/sunset-sessions-%f0%9f%8e%b6/2028-08-31/
LOCATION:HOLIDAY
CATEGORIES:Listening Party
ATTACH;FMTTYPE=image/png:https://holidaybaratl.com/wp-content/uploads/2026/02/Sunset-Sessions-Spain-Instagram-Story.png
END:VEVENT
BEGIN:VEVENT
DTSTART;TZID=America/New_York:20280907T190000
DTEND;TZID=America/New_York:20280907T190000
DTSTAMP:20260422T100626
CREATED:20260225T220515Z
LAST-MODIFIED:20260414T232108Z
UID:10000202-1851966000-1851966000@holidaybaratl.com
SUMMARY:Sunset Sessions 🎶
DESCRIPTION:POV: You said you were going home after one drink … but Sunset Sessions is calling ! \nGolden hour hits. DJ behind the bar. Cocktail in hand. Pick up the phone & come on in! \nEvery Thursday 7PM – 12AM | This is your sign to romanticize your Thursday 
URL:https://holidaybaratl.com/event/sunset-sessions-%f0%9f%8e%b6/2028-09-07/
LOCATION:HOLIDAY
CATEGORIES:Listening Party
ATTACH;FMTTYPE=image/png:https://holidaybaratl.com/wp-content/uploads/2026/02/Sunset-Sessions-Spain-Instagram-Story.png
END:VEVENT
BEGIN:VEVENT
DTSTART;TZID=America/New_York:20280914T190000
DTEND;TZID=America/New_York:20280914T190000
DTSTAMP:20260422T100626
CREATED:20260225T220515Z
LAST-MODIFIED:20260414T232108Z
UID:10000203-1852570800-1852570800@holidaybaratl.com
SUMMARY:Sunset Sessions 🎶
DESCRIPTION:POV: You said you were going home after one drink … but Sunset Sessions is calling ! \nGolden hour hits. DJ behind the bar. Cocktail in hand. Pick up the phone & come on in! \nEvery Thursday 7PM – 12AM | This is your sign to romanticize your Thursday 
URL:https://holidaybaratl.com/event/sunset-sessions-%f0%9f%8e%b6/2028-09-14/
LOCATION:HOLIDAY
CATEGORIES:Listening Party
ATTACH;FMTTYPE=image/png:https://holidaybaratl.com/wp-content/uploads/2026/02/Sunset-Sessions-Spain-Instagram-Story.png
END:VEVENT
BEGIN:VEVENT
DTSTART;TZID=America/New_York:20280921T190000
DTEND;TZID=America/New_York:20280921T190000
DTSTAMP:20260422T100626
CREATED:20260225T220515Z
LAST-MODIFIED:20260414T232108Z
UID:10000204-1853175600-1853175600@holidaybaratl.com
SUMMARY:Sunset Sessions 🎶
DESCRIPTION:POV: You said you were going home after one drink … but Sunset Sessions is calling ! \nGolden hour hits. DJ behind the bar. Cocktail in hand. Pick up the phone & come on in! \nEvery Thursday 7PM – 12AM | This is your sign to romanticize your Thursday 
URL:https://holidaybaratl.com/event/sunset-sessions-%f0%9f%8e%b6/2028-09-21/
LOCATION:HOLIDAY
CATEGORIES:Listening Party
ATTACH;FMTTYPE=image/png:https://holidaybaratl.com/wp-content/uploads/2026/02/Sunset-Sessions-Spain-Instagram-Story.png
END:VEVENT
BEGIN:VEVENT
DTSTART;TZID=America/New_York:20280928T190000
DTEND;TZID=America/New_York:20280928T190000
DTSTAMP:20260422T100626
CREATED:20260225T220515Z
LAST-MODIFIED:20260414T232108Z
UID:10000205-1853780400-1853780400@holidaybaratl.com
SUMMARY:Sunset Sessions 🎶
DESCRIPTION:POV: You said you were going home after one drink … but Sunset Sessions is calling ! \nGolden hour hits. DJ behind the bar. Cocktail in hand. Pick up the phone & come on in! \nEvery Thursday 7PM – 12AM | This is your sign to romanticize your Thursday 
URL:https://holidaybaratl.com/event/sunset-sessions-%f0%9f%8e%b6/2028-09-28/
LOCATION:HOLIDAY
CATEGORIES:Listening Party
ATTACH;FMTTYPE=image/png:https://holidaybaratl.com/wp-content/uploads/2026/02/Sunset-Sessions-Spain-Instagram-Story.png
END:VEVENT
BEGIN:VEVENT
DTSTART;TZID=America/New_York:20281005T190000
DTEND;TZID=America/New_York:20281005T190000
DTSTAMP:20260422T100626
CREATED:20260225T220515Z
LAST-MODIFIED:20260414T232108Z
UID:10000206-1854385200-1854385200@holidaybaratl.com
SUMMARY:Sunset Sessions 🎶
DESCRIPTION:POV: You said you were going home after one drink … but Sunset Sessions is calling ! \nGolden hour hits. DJ behind the bar. Cocktail in hand. Pick up the phone & come on in! \nEvery Thursday 7PM – 12AM | This is your sign to romanticize your Thursday 
URL:https://holidaybaratl.com/event/sunset-sessions-%f0%9f%8e%b6/2028-10-05/
LOCATION:HOLIDAY
CATEGORIES:Listening Party
ATTACH;FMTTYPE=image/png:https://holidaybaratl.com/wp-content/uploads/2026/02/Sunset-Sessions-Spain-Instagram-Story.png
END:VEVENT
BEGIN:VEVENT
DTSTART;TZID=America/New_York:20281012T190000
DTEND;TZID=America/New_York:20281012T190000
DTSTAMP:20260422T100626
CREATED:20260225T220515Z
LAST-MODIFIED:20260414T232108Z
UID:10000207-1854990000-1854990000@holidaybaratl.com
SUMMARY:Sunset Sessions 🎶
DESCRIPTION:POV: You said you were going home after one drink … but Sunset Sessions is calling ! \nGolden hour hits. DJ behind the bar. Cocktail in hand. Pick up the phone & come on in! \nEvery Thursday 7PM – 12AM | This is your sign to romanticize your Thursday 
URL:https://holidaybaratl.com/event/sunset-sessions-%f0%9f%8e%b6/2028-10-12/
LOCATION:HOLIDAY
CATEGORIES:Listening Party
ATTACH;FMTTYPE=image/png:https://holidaybaratl.com/wp-content/uploads/2026/02/Sunset-Sessions-Spain-Instagram-Story.png
END:VEVENT
BEGIN:VEVENT
DTSTART;TZID=America/New_York:20281019T190000
DTEND;TZID=America/New_York:20281019T190000
DTSTAMP:20260422T100626
CREATED:20260225T220515Z
LAST-MODIFIED:20260414T232108Z
UID:10000208-1855594800-1855594800@holidaybaratl.com
SUMMARY:Sunset Sessions 🎶
DESCRIPTION:POV: You said you were going home after one drink … but Sunset Sessions is calling ! \nGolden hour hits. DJ behind the bar. Cocktail in hand. Pick up the phone & come on in! \nEvery Thursday 7PM – 12AM | This is your sign to romanticize your Thursday 
URL:https://holidaybaratl.com/event/sunset-sessions-%f0%9f%8e%b6/2028-10-19/
LOCATION:HOLIDAY
CATEGORIES:Listening Party
ATTACH;FMTTYPE=image/png:https://holidaybaratl.com/wp-content/uploads/2026/02/Sunset-Sessions-Spain-Instagram-Story.png
END:VEVENT
BEGIN:VEVENT
DTSTART;TZID=America/New_York:20281026T190000
DTEND;TZID=America/New_York:20281026T190000
DTSTAMP:20260422T100626
CREATED:20260225T220515Z
LAST-MODIFIED:20260414T232108Z
UID:10000209-1856199600-1856199600@holidaybaratl.com
SUMMARY:Sunset Sessions 🎶
DESCRIPTION:POV: You said you were going home after one drink … but Sunset Sessions is calling ! \nGolden hour hits. DJ behind the bar. Cocktail in hand. Pick up the phone & come on in! \nEvery Thursday 7PM – 12AM | This is your sign to romanticize your Thursday 
URL:https://holidaybaratl.com/event/sunset-sessions-%f0%9f%8e%b6/2028-10-26/
LOCATION:HOLIDAY
CATEGORIES:Listening Party
ATTACH;FMTTYPE=image/png:https://holidaybaratl.com/wp-content/uploads/2026/02/Sunset-Sessions-Spain-Instagram-Story.png
END:VEVENT
END:VCALENDAR