BEGIN:VCALENDAR
VERSION:2.0
PRODID:-//Holiday Bar - ECPv6.15.20//NONSGML v1.0//EN
CALSCALE:GREGORIAN
METHOD:PUBLISH
X-ORIGINAL-URL:https://holidaybaratl.com
X-WR-CALDESC:Events for Holiday Bar
REFRESH-INTERVAL;VALUE=DURATION:PT1H
X-Robots-Tag:noindex
X-PUBLISHED-TTL:PT1H
BEGIN:VTIMEZONE
TZID:America/New_York
BEGIN:DAYLIGHT
TZOFFSETFROM:-0500
TZOFFSETTO:-0400
TZNAME:EDT
DTSTART:20280312T070000
END:DAYLIGHT
BEGIN:STANDARD
TZOFFSETFROM:-0400
TZOFFSETTO:-0500
TZNAME:EST
DTSTART:20281105T060000
END:STANDARD
BEGIN:DAYLIGHT
TZOFFSETFROM:-0500
TZOFFSETTO:-0400
TZNAME:EDT
DTSTART:20290311T070000
END:DAYLIGHT
BEGIN:STANDARD
TZOFFSETFROM:-0400
TZOFFSETTO:-0500
TZNAME:EST
DTSTART:20291104T060000
END:STANDARD
BEGIN:DAYLIGHT
TZOFFSETFROM:-0500
TZOFFSETTO:-0400
TZNAME:EDT
DTSTART:20300310T070000
END:DAYLIGHT
BEGIN:STANDARD
TZOFFSETFROM:-0400
TZOFFSETTO:-0500
TZNAME:EST
DTSTART:20301103T060000
END:STANDARD
BEGIN:DAYLIGHT
TZOFFSETFROM:-0500
TZOFFSETTO:-0400
TZNAME:EDT
DTSTART:20310309T070000
END:DAYLIGHT
BEGIN:STANDARD
TZOFFSETFROM:-0400
TZOFFSETTO:-0500
TZNAME:EST
DTSTART:20311102T060000
END:STANDARD
END:VTIMEZONE
BEGIN:VEVENT
DTSTART;TZID=America/New_York:20290927T190000
DTEND;TZID=America/New_York:20290927T190000
DTSTAMP:20260422T134713
CREATED:20260225T220515Z
LAST-MODIFIED:20260414T232108Z
UID:10000257-1885230000-1885230000@holidaybaratl.com
SUMMARY:Sunset Sessions 🎶
DESCRIPTION:POV: You said you were going home after one drink … but Sunset Sessions is calling ! \nGolden hour hits. DJ behind the bar. Cocktail in hand. Pick up the phone & come on in! \nEvery Thursday 7PM – 12AM | This is your sign to romanticize your Thursday 
URL:https://holidaybaratl.com/event/sunset-sessions-%f0%9f%8e%b6/2029-09-27/
LOCATION:HOLIDAY
CATEGORIES:Listening Party
ATTACH;FMTTYPE=image/png:https://holidaybaratl.com/wp-content/uploads/2026/02/Sunset-Sessions-Spain-Instagram-Story.png
END:VEVENT
BEGIN:VEVENT
DTSTART;TZID=America/New_York:20291004T190000
DTEND;TZID=America/New_York:20291004T190000
DTSTAMP:20260422T134713
CREATED:20260225T220515Z
LAST-MODIFIED:20260414T232108Z
UID:10000258-1885834800-1885834800@holidaybaratl.com
SUMMARY:Sunset Sessions 🎶
DESCRIPTION:POV: You said you were going home after one drink … but Sunset Sessions is calling ! \nGolden hour hits. DJ behind the bar. Cocktail in hand. Pick up the phone & come on in! \nEvery Thursday 7PM – 12AM | This is your sign to romanticize your Thursday 
URL:https://holidaybaratl.com/event/sunset-sessions-%f0%9f%8e%b6/2029-10-04/
LOCATION:HOLIDAY
CATEGORIES:Listening Party
ATTACH;FMTTYPE=image/png:https://holidaybaratl.com/wp-content/uploads/2026/02/Sunset-Sessions-Spain-Instagram-Story.png
END:VEVENT
BEGIN:VEVENT
DTSTART;TZID=America/New_York:20291011T190000
DTEND;TZID=America/New_York:20291011T190000
DTSTAMP:20260422T134713
CREATED:20260225T220515Z
LAST-MODIFIED:20260414T232108Z
UID:10000259-1886439600-1886439600@holidaybaratl.com
SUMMARY:Sunset Sessions 🎶
DESCRIPTION:POV: You said you were going home after one drink … but Sunset Sessions is calling ! \nGolden hour hits. DJ behind the bar. Cocktail in hand. Pick up the phone & come on in! \nEvery Thursday 7PM – 12AM | This is your sign to romanticize your Thursday 
URL:https://holidaybaratl.com/event/sunset-sessions-%f0%9f%8e%b6/2029-10-11/
LOCATION:HOLIDAY
CATEGORIES:Listening Party
ATTACH;FMTTYPE=image/png:https://holidaybaratl.com/wp-content/uploads/2026/02/Sunset-Sessions-Spain-Instagram-Story.png
END:VEVENT
BEGIN:VEVENT
DTSTART;TZID=America/New_York:20291018T190000
DTEND;TZID=America/New_York:20291018T190000
DTSTAMP:20260422T134713
CREATED:20260225T220515Z
LAST-MODIFIED:20260414T232108Z
UID:10000260-1887044400-1887044400@holidaybaratl.com
SUMMARY:Sunset Sessions 🎶
DESCRIPTION:POV: You said you were going home after one drink … but Sunset Sessions is calling ! \nGolden hour hits. DJ behind the bar. Cocktail in hand. Pick up the phone & come on in! \nEvery Thursday 7PM – 12AM | This is your sign to romanticize your Thursday 
URL:https://holidaybaratl.com/event/sunset-sessions-%f0%9f%8e%b6/2029-10-18/
LOCATION:HOLIDAY
CATEGORIES:Listening Party
ATTACH;FMTTYPE=image/png:https://holidaybaratl.com/wp-content/uploads/2026/02/Sunset-Sessions-Spain-Instagram-Story.png
END:VEVENT
BEGIN:VEVENT
DTSTART;TZID=America/New_York:20291025T190000
DTEND;TZID=America/New_York:20291025T190000
DTSTAMP:20260422T134713
CREATED:20260225T220515Z
LAST-MODIFIED:20260414T232108Z
UID:10000261-1887649200-1887649200@holidaybaratl.com
SUMMARY:Sunset Sessions 🎶
DESCRIPTION:POV: You said you were going home after one drink … but Sunset Sessions is calling ! \nGolden hour hits. DJ behind the bar. Cocktail in hand. Pick up the phone & come on in! \nEvery Thursday 7PM – 12AM | This is your sign to romanticize your Thursday 
URL:https://holidaybaratl.com/event/sunset-sessions-%f0%9f%8e%b6/2029-10-25/
LOCATION:HOLIDAY
CATEGORIES:Listening Party
ATTACH;FMTTYPE=image/png:https://holidaybaratl.com/wp-content/uploads/2026/02/Sunset-Sessions-Spain-Instagram-Story.png
END:VEVENT
BEGIN:VEVENT
DTSTART;TZID=America/New_York:20291101T190000
DTEND;TZID=America/New_York:20291101T190000
DTSTAMP:20260422T134713
CREATED:20260225T220515Z
LAST-MODIFIED:20260414T232108Z
UID:10000262-1888254000-1888254000@holidaybaratl.com
SUMMARY:Sunset Sessions 🎶
DESCRIPTION:POV: You said you were going home after one drink … but Sunset Sessions is calling ! \nGolden hour hits. DJ behind the bar. Cocktail in hand. Pick up the phone & come on in! \nEvery Thursday 7PM – 12AM | This is your sign to romanticize your Thursday 
URL:https://holidaybaratl.com/event/sunset-sessions-%f0%9f%8e%b6/2029-11-01/
LOCATION:HOLIDAY
CATEGORIES:Listening Party
ATTACH;FMTTYPE=image/png:https://holidaybaratl.com/wp-content/uploads/2026/02/Sunset-Sessions-Spain-Instagram-Story.png
END:VEVENT
BEGIN:VEVENT
DTSTART;TZID=America/New_York:20291108T190000
DTEND;TZID=America/New_York:20291108T190000
DTSTAMP:20260422T134713
CREATED:20260225T220515Z
LAST-MODIFIED:20260414T232108Z
UID:10000263-1888858800-1888858800@holidaybaratl.com
SUMMARY:Sunset Sessions 🎶
DESCRIPTION:POV: You said you were going home after one drink … but Sunset Sessions is calling ! \nGolden hour hits. DJ behind the bar. Cocktail in hand. Pick up the phone & come on in! \nEvery Thursday 7PM – 12AM | This is your sign to romanticize your Thursday 
URL:https://holidaybaratl.com/event/sunset-sessions-%f0%9f%8e%b6/2029-11-08/
LOCATION:HOLIDAY
CATEGORIES:Listening Party
ATTACH;FMTTYPE=image/png:https://holidaybaratl.com/wp-content/uploads/2026/02/Sunset-Sessions-Spain-Instagram-Story.png
END:VEVENT
BEGIN:VEVENT
DTSTART;TZID=America/New_York:20291115T190000
DTEND;TZID=America/New_York:20291115T190000
DTSTAMP:20260422T134713
CREATED:20260225T220515Z
LAST-MODIFIED:20260414T232108Z
UID:10000264-1889463600-1889463600@holidaybaratl.com
SUMMARY:Sunset Sessions 🎶
DESCRIPTION:POV: You said you were going home after one drink … but Sunset Sessions is calling ! \nGolden hour hits. DJ behind the bar. Cocktail in hand. Pick up the phone & come on in! \nEvery Thursday 7PM – 12AM | This is your sign to romanticize your Thursday 
URL:https://holidaybaratl.com/event/sunset-sessions-%f0%9f%8e%b6/2029-11-15/
LOCATION:HOLIDAY
CATEGORIES:Listening Party
ATTACH;FMTTYPE=image/png:https://holidaybaratl.com/wp-content/uploads/2026/02/Sunset-Sessions-Spain-Instagram-Story.png
END:VEVENT
BEGIN:VEVENT
DTSTART;TZID=America/New_York:20291122T190000
DTEND;TZID=America/New_York:20291122T190000
DTSTAMP:20260422T134713
CREATED:20260225T220515Z
LAST-MODIFIED:20260414T232108Z
UID:10000265-1890068400-1890068400@holidaybaratl.com
SUMMARY:Sunset Sessions 🎶
DESCRIPTION:POV: You said you were going home after one drink … but Sunset Sessions is calling ! \nGolden hour hits. DJ behind the bar. Cocktail in hand. Pick up the phone & come on in! \nEvery Thursday 7PM – 12AM | This is your sign to romanticize your Thursday 
URL:https://holidaybaratl.com/event/sunset-sessions-%f0%9f%8e%b6/2029-11-22/
LOCATION:HOLIDAY
CATEGORIES:Listening Party
ATTACH;FMTTYPE=image/png:https://holidaybaratl.com/wp-content/uploads/2026/02/Sunset-Sessions-Spain-Instagram-Story.png
END:VEVENT
BEGIN:VEVENT
DTSTART;TZID=America/New_York:20291129T190000
DTEND;TZID=America/New_York:20291129T190000
DTSTAMP:20260422T134713
CREATED:20260225T220515Z
LAST-MODIFIED:20260414T232108Z
UID:10000266-1890673200-1890673200@holidaybaratl.com
SUMMARY:Sunset Sessions 🎶
DESCRIPTION:POV: You said you were going home after one drink … but Sunset Sessions is calling ! \nGolden hour hits. DJ behind the bar. Cocktail in hand. Pick up the phone & come on in! \nEvery Thursday 7PM – 12AM | This is your sign to romanticize your Thursday 
URL:https://holidaybaratl.com/event/sunset-sessions-%f0%9f%8e%b6/2029-11-29/
LOCATION:HOLIDAY
CATEGORIES:Listening Party
ATTACH;FMTTYPE=image/png:https://holidaybaratl.com/wp-content/uploads/2026/02/Sunset-Sessions-Spain-Instagram-Story.png
END:VEVENT
BEGIN:VEVENT
DTSTART;TZID=America/New_York:20291206T190000
DTEND;TZID=America/New_York:20291206T190000
DTSTAMP:20260422T134713
CREATED:20260225T220515Z
LAST-MODIFIED:20260414T232108Z
UID:10000267-1891278000-1891278000@holidaybaratl.com
SUMMARY:Sunset Sessions 🎶
DESCRIPTION:POV: You said you were going home after one drink … but Sunset Sessions is calling ! \nGolden hour hits. DJ behind the bar. Cocktail in hand. Pick up the phone & come on in! \nEvery Thursday 7PM – 12AM | This is your sign to romanticize your Thursday 
URL:https://holidaybaratl.com/event/sunset-sessions-%f0%9f%8e%b6/2029-12-06/
LOCATION:HOLIDAY
CATEGORIES:Listening Party
ATTACH;FMTTYPE=image/png:https://holidaybaratl.com/wp-content/uploads/2026/02/Sunset-Sessions-Spain-Instagram-Story.png
END:VEVENT
BEGIN:VEVENT
DTSTART;TZID=America/New_York:20291213T190000
DTEND;TZID=America/New_York:20291213T190000
DTSTAMP:20260422T134713
CREATED:20260225T220515Z
LAST-MODIFIED:20260414T232108Z
UID:10000268-1891882800-1891882800@holidaybaratl.com
SUMMARY:Sunset Sessions 🎶
DESCRIPTION:POV: You said you were going home after one drink … but Sunset Sessions is calling ! \nGolden hour hits. DJ behind the bar. Cocktail in hand. Pick up the phone & come on in! \nEvery Thursday 7PM – 12AM | This is your sign to romanticize your Thursday 
URL:https://holidaybaratl.com/event/sunset-sessions-%f0%9f%8e%b6/2029-12-13/
LOCATION:HOLIDAY
CATEGORIES:Listening Party
ATTACH;FMTTYPE=image/png:https://holidaybaratl.com/wp-content/uploads/2026/02/Sunset-Sessions-Spain-Instagram-Story.png
END:VEVENT
BEGIN:VEVENT
DTSTART;TZID=America/New_York:20291220T190000
DTEND;TZID=America/New_York:20291220T190000
DTSTAMP:20260422T134713
CREATED:20260225T220515Z
LAST-MODIFIED:20260414T232108Z
UID:10000269-1892487600-1892487600@holidaybaratl.com
SUMMARY:Sunset Sessions 🎶
DESCRIPTION:POV: You said you were going home after one drink … but Sunset Sessions is calling ! \nGolden hour hits. DJ behind the bar. Cocktail in hand. Pick up the phone & come on in! \nEvery Thursday 7PM – 12AM | This is your sign to romanticize your Thursday 
URL:https://holidaybaratl.com/event/sunset-sessions-%f0%9f%8e%b6/2029-12-20/
LOCATION:HOLIDAY
CATEGORIES:Listening Party
ATTACH;FMTTYPE=image/png:https://holidaybaratl.com/wp-content/uploads/2026/02/Sunset-Sessions-Spain-Instagram-Story.png
END:VEVENT
BEGIN:VEVENT
DTSTART;TZID=America/New_York:20291227T190000
DTEND;TZID=America/New_York:20291227T190000
DTSTAMP:20260422T134713
CREATED:20260225T220515Z
LAST-MODIFIED:20260414T232108Z
UID:10000270-1893092400-1893092400@holidaybaratl.com
SUMMARY:Sunset Sessions 🎶
DESCRIPTION:POV: You said you were going home after one drink … but Sunset Sessions is calling ! \nGolden hour hits. DJ behind the bar. Cocktail in hand. Pick up the phone & come on in! \nEvery Thursday 7PM – 12AM | This is your sign to romanticize your Thursday 
URL:https://holidaybaratl.com/event/sunset-sessions-%f0%9f%8e%b6/2029-12-27/
LOCATION:HOLIDAY
CATEGORIES:Listening Party
ATTACH;FMTTYPE=image/png:https://holidaybaratl.com/wp-content/uploads/2026/02/Sunset-Sessions-Spain-Instagram-Story.png
END:VEVENT
BEGIN:VEVENT
DTSTART;TZID=America/New_York:20300103T190000
DTEND;TZID=America/New_York:20300103T190000
DTSTAMP:20260422T134713
CREATED:20260225T220515Z
LAST-MODIFIED:20260414T232108Z
UID:10000271-1893697200-1893697200@holidaybaratl.com
SUMMARY:Sunset Sessions 🎶
DESCRIPTION:POV: You said you were going home after one drink … but Sunset Sessions is calling ! \nGolden hour hits. DJ behind the bar. Cocktail in hand. Pick up the phone & come on in! \nEvery Thursday 7PM – 12AM | This is your sign to romanticize your Thursday 
URL:https://holidaybaratl.com/event/sunset-sessions-%f0%9f%8e%b6/2030-01-03/
LOCATION:HOLIDAY
CATEGORIES:Listening Party
ATTACH;FMTTYPE=image/png:https://holidaybaratl.com/wp-content/uploads/2026/02/Sunset-Sessions-Spain-Instagram-Story.png
END:VEVENT
BEGIN:VEVENT
DTSTART;TZID=America/New_York:20300110T190000
DTEND;TZID=America/New_York:20300110T190000
DTSTAMP:20260422T134713
CREATED:20260225T220515Z
LAST-MODIFIED:20260414T232108Z
UID:10000272-1894302000-1894302000@holidaybaratl.com
SUMMARY:Sunset Sessions 🎶
DESCRIPTION:POV: You said you were going home after one drink … but Sunset Sessions is calling ! \nGolden hour hits. DJ behind the bar. Cocktail in hand. Pick up the phone & come on in! \nEvery Thursday 7PM – 12AM | This is your sign to romanticize your Thursday 
URL:https://holidaybaratl.com/event/sunset-sessions-%f0%9f%8e%b6/2030-01-10/
LOCATION:HOLIDAY
CATEGORIES:Listening Party
ATTACH;FMTTYPE=image/png:https://holidaybaratl.com/wp-content/uploads/2026/02/Sunset-Sessions-Spain-Instagram-Story.png
END:VEVENT
BEGIN:VEVENT
DTSTART;TZID=America/New_York:20300117T190000
DTEND;TZID=America/New_York:20300117T190000
DTSTAMP:20260422T134713
CREATED:20260225T220515Z
LAST-MODIFIED:20260414T232108Z
UID:10000273-1894906800-1894906800@holidaybaratl.com
SUMMARY:Sunset Sessions 🎶
DESCRIPTION:POV: You said you were going home after one drink … but Sunset Sessions is calling ! \nGolden hour hits. DJ behind the bar. Cocktail in hand. Pick up the phone & come on in! \nEvery Thursday 7PM – 12AM | This is your sign to romanticize your Thursday 
URL:https://holidaybaratl.com/event/sunset-sessions-%f0%9f%8e%b6/2030-01-17/
LOCATION:HOLIDAY
CATEGORIES:Listening Party
ATTACH;FMTTYPE=image/png:https://holidaybaratl.com/wp-content/uploads/2026/02/Sunset-Sessions-Spain-Instagram-Story.png
END:VEVENT
BEGIN:VEVENT
DTSTART;TZID=America/New_York:20300124T190000
DTEND;TZID=America/New_York:20300124T190000
DTSTAMP:20260422T134713
CREATED:20260225T220515Z
LAST-MODIFIED:20260414T232108Z
UID:10000274-1895511600-1895511600@holidaybaratl.com
SUMMARY:Sunset Sessions 🎶
DESCRIPTION:POV: You said you were going home after one drink … but Sunset Sessions is calling ! \nGolden hour hits. DJ behind the bar. Cocktail in hand. Pick up the phone & come on in! \nEvery Thursday 7PM – 12AM | This is your sign to romanticize your Thursday 
URL:https://holidaybaratl.com/event/sunset-sessions-%f0%9f%8e%b6/2030-01-24/
LOCATION:HOLIDAY
CATEGORIES:Listening Party
ATTACH;FMTTYPE=image/png:https://holidaybaratl.com/wp-content/uploads/2026/02/Sunset-Sessions-Spain-Instagram-Story.png
END:VEVENT
BEGIN:VEVENT
DTSTART;TZID=America/New_York:20300131T190000
DTEND;TZID=America/New_York:20300131T190000
DTSTAMP:20260422T134713
CREATED:20260225T220515Z
LAST-MODIFIED:20260414T232108Z
UID:10000275-1896116400-1896116400@holidaybaratl.com
SUMMARY:Sunset Sessions 🎶
DESCRIPTION:POV: You said you were going home after one drink … but Sunset Sessions is calling ! \nGolden hour hits. DJ behind the bar. Cocktail in hand. Pick up the phone & come on in! \nEvery Thursday 7PM – 12AM | This is your sign to romanticize your Thursday 
URL:https://holidaybaratl.com/event/sunset-sessions-%f0%9f%8e%b6/2030-01-31/
LOCATION:HOLIDAY
CATEGORIES:Listening Party
ATTACH;FMTTYPE=image/png:https://holidaybaratl.com/wp-content/uploads/2026/02/Sunset-Sessions-Spain-Instagram-Story.png
END:VEVENT
BEGIN:VEVENT
DTSTART;TZID=America/New_York:20300207T190000
DTEND;TZID=America/New_York:20300207T190000
DTSTAMP:20260422T134713
CREATED:20260225T220515Z
LAST-MODIFIED:20260414T232108Z
UID:10000276-1896721200-1896721200@holidaybaratl.com
SUMMARY:Sunset Sessions 🎶
DESCRIPTION:POV: You said you were going home after one drink … but Sunset Sessions is calling ! \nGolden hour hits. DJ behind the bar. Cocktail in hand. Pick up the phone & come on in! \nEvery Thursday 7PM – 12AM | This is your sign to romanticize your Thursday 
URL:https://holidaybaratl.com/event/sunset-sessions-%f0%9f%8e%b6/2030-02-07/
LOCATION:HOLIDAY
CATEGORIES:Listening Party
ATTACH;FMTTYPE=image/png:https://holidaybaratl.com/wp-content/uploads/2026/02/Sunset-Sessions-Spain-Instagram-Story.png
END:VEVENT
BEGIN:VEVENT
DTSTART;TZID=America/New_York:20300214T190000
DTEND;TZID=America/New_York:20300214T190000
DTSTAMP:20260422T134713
CREATED:20260225T220515Z
LAST-MODIFIED:20260414T232108Z
UID:10000277-1897326000-1897326000@holidaybaratl.com
SUMMARY:Sunset Sessions 🎶
DESCRIPTION:POV: You said you were going home after one drink … but Sunset Sessions is calling ! \nGolden hour hits. DJ behind the bar. Cocktail in hand. Pick up the phone & come on in! \nEvery Thursday 7PM – 12AM | This is your sign to romanticize your Thursday 
URL:https://holidaybaratl.com/event/sunset-sessions-%f0%9f%8e%b6/2030-02-14/
LOCATION:HOLIDAY
CATEGORIES:Listening Party
ATTACH;FMTTYPE=image/png:https://holidaybaratl.com/wp-content/uploads/2026/02/Sunset-Sessions-Spain-Instagram-Story.png
END:VEVENT
BEGIN:VEVENT
DTSTART;TZID=America/New_York:20300221T190000
DTEND;TZID=America/New_York:20300221T190000
DTSTAMP:20260422T134713
CREATED:20260225T220515Z
LAST-MODIFIED:20260414T232108Z
UID:10000278-1897930800-1897930800@holidaybaratl.com
SUMMARY:Sunset Sessions 🎶
DESCRIPTION:POV: You said you were going home after one drink … but Sunset Sessions is calling ! \nGolden hour hits. DJ behind the bar. Cocktail in hand. Pick up the phone & come on in! \nEvery Thursday 7PM – 12AM | This is your sign to romanticize your Thursday 
URL:https://holidaybaratl.com/event/sunset-sessions-%f0%9f%8e%b6/2030-02-21/
LOCATION:HOLIDAY
CATEGORIES:Listening Party
ATTACH;FMTTYPE=image/png:https://holidaybaratl.com/wp-content/uploads/2026/02/Sunset-Sessions-Spain-Instagram-Story.png
END:VEVENT
BEGIN:VEVENT
DTSTART;TZID=America/New_York:20300228T190000
DTEND;TZID=America/New_York:20300228T190000
DTSTAMP:20260422T134713
CREATED:20260225T220515Z
LAST-MODIFIED:20260414T232108Z
UID:10000279-1898535600-1898535600@holidaybaratl.com
SUMMARY:Sunset Sessions 🎶
DESCRIPTION:POV: You said you were going home after one drink … but Sunset Sessions is calling ! \nGolden hour hits. DJ behind the bar. Cocktail in hand. Pick up the phone & come on in! \nEvery Thursday 7PM – 12AM | This is your sign to romanticize your Thursday 
URL:https://holidaybaratl.com/event/sunset-sessions-%f0%9f%8e%b6/2030-02-28/
LOCATION:HOLIDAY
CATEGORIES:Listening Party
ATTACH;FMTTYPE=image/png:https://holidaybaratl.com/wp-content/uploads/2026/02/Sunset-Sessions-Spain-Instagram-Story.png
END:VEVENT
BEGIN:VEVENT
DTSTART;TZID=America/New_York:20300307T190000
DTEND;TZID=America/New_York:20300307T190000
DTSTAMP:20260422T134713
CREATED:20260225T220515Z
LAST-MODIFIED:20260414T232108Z
UID:10000280-1899140400-1899140400@holidaybaratl.com
SUMMARY:Sunset Sessions 🎶
DESCRIPTION:POV: You said you were going home after one drink … but Sunset Sessions is calling ! \nGolden hour hits. DJ behind the bar. Cocktail in hand. Pick up the phone & come on in! \nEvery Thursday 7PM – 12AM | This is your sign to romanticize your Thursday 
URL:https://holidaybaratl.com/event/sunset-sessions-%f0%9f%8e%b6/2030-03-07/
LOCATION:HOLIDAY
CATEGORIES:Listening Party
ATTACH;FMTTYPE=image/png:https://holidaybaratl.com/wp-content/uploads/2026/02/Sunset-Sessions-Spain-Instagram-Story.png
END:VEVENT
BEGIN:VEVENT
DTSTART;TZID=America/New_York:20300314T190000
DTEND;TZID=America/New_York:20300314T190000
DTSTAMP:20260422T134713
CREATED:20260225T220515Z
LAST-MODIFIED:20260414T232108Z
UID:10000281-1899745200-1899745200@holidaybaratl.com
SUMMARY:Sunset Sessions 🎶
DESCRIPTION:POV: You said you were going home after one drink … but Sunset Sessions is calling ! \nGolden hour hits. DJ behind the bar. Cocktail in hand. Pick up the phone & come on in! \nEvery Thursday 7PM – 12AM | This is your sign to romanticize your Thursday 
URL:https://holidaybaratl.com/event/sunset-sessions-%f0%9f%8e%b6/2030-03-14/
LOCATION:HOLIDAY
CATEGORIES:Listening Party
ATTACH;FMTTYPE=image/png:https://holidaybaratl.com/wp-content/uploads/2026/02/Sunset-Sessions-Spain-Instagram-Story.png
END:VEVENT
BEGIN:VEVENT
DTSTART;TZID=America/New_York:20300321T190000
DTEND;TZID=America/New_York:20300321T190000
DTSTAMP:20260422T134713
CREATED:20260225T220515Z
LAST-MODIFIED:20260414T232108Z
UID:10000282-1900350000-1900350000@holidaybaratl.com
SUMMARY:Sunset Sessions 🎶
DESCRIPTION:POV: You said you were going home after one drink … but Sunset Sessions is calling ! \nGolden hour hits. DJ behind the bar. Cocktail in hand. Pick up the phone & come on in! \nEvery Thursday 7PM – 12AM | This is your sign to romanticize your Thursday 
URL:https://holidaybaratl.com/event/sunset-sessions-%f0%9f%8e%b6/2030-03-21/
LOCATION:HOLIDAY
CATEGORIES:Listening Party
ATTACH;FMTTYPE=image/png:https://holidaybaratl.com/wp-content/uploads/2026/02/Sunset-Sessions-Spain-Instagram-Story.png
END:VEVENT
BEGIN:VEVENT
DTSTART;TZID=America/New_York:20300328T190000
DTEND;TZID=America/New_York:20300328T190000
DTSTAMP:20260422T134713
CREATED:20260225T220515Z
LAST-MODIFIED:20260414T232108Z
UID:10000283-1900954800-1900954800@holidaybaratl.com
SUMMARY:Sunset Sessions 🎶
DESCRIPTION:POV: You said you were going home after one drink … but Sunset Sessions is calling ! \nGolden hour hits. DJ behind the bar. Cocktail in hand. Pick up the phone & come on in! \nEvery Thursday 7PM – 12AM | This is your sign to romanticize your Thursday 
URL:https://holidaybaratl.com/event/sunset-sessions-%f0%9f%8e%b6/2030-03-28/
LOCATION:HOLIDAY
CATEGORIES:Listening Party
ATTACH;FMTTYPE=image/png:https://holidaybaratl.com/wp-content/uploads/2026/02/Sunset-Sessions-Spain-Instagram-Story.png
END:VEVENT
BEGIN:VEVENT
DTSTART;TZID=America/New_York:20300404T190000
DTEND;TZID=America/New_York:20300404T190000
DTSTAMP:20260422T134713
CREATED:20260225T220515Z
LAST-MODIFIED:20260414T232108Z
UID:10000284-1901559600-1901559600@holidaybaratl.com
SUMMARY:Sunset Sessions 🎶
DESCRIPTION:POV: You said you were going home after one drink … but Sunset Sessions is calling ! \nGolden hour hits. DJ behind the bar. Cocktail in hand. Pick up the phone & come on in! \nEvery Thursday 7PM – 12AM | This is your sign to romanticize your Thursday 
URL:https://holidaybaratl.com/event/sunset-sessions-%f0%9f%8e%b6/2030-04-04/
LOCATION:HOLIDAY
CATEGORIES:Listening Party
ATTACH;FMTTYPE=image/png:https://holidaybaratl.com/wp-content/uploads/2026/02/Sunset-Sessions-Spain-Instagram-Story.png
END:VEVENT
BEGIN:VEVENT
DTSTART;TZID=America/New_York:20300411T190000
DTEND;TZID=America/New_York:20300411T190000
DTSTAMP:20260422T134713
CREATED:20260225T220515Z
LAST-MODIFIED:20260414T232108Z
UID:10000285-1902164400-1902164400@holidaybaratl.com
SUMMARY:Sunset Sessions 🎶
DESCRIPTION:POV: You said you were going home after one drink … but Sunset Sessions is calling ! \nGolden hour hits. DJ behind the bar. Cocktail in hand. Pick up the phone & come on in! \nEvery Thursday 7PM – 12AM | This is your sign to romanticize your Thursday 
URL:https://holidaybaratl.com/event/sunset-sessions-%f0%9f%8e%b6/2030-04-11/
LOCATION:HOLIDAY
CATEGORIES:Listening Party
ATTACH;FMTTYPE=image/png:https://holidaybaratl.com/wp-content/uploads/2026/02/Sunset-Sessions-Spain-Instagram-Story.png
END:VEVENT
BEGIN:VEVENT
DTSTART;TZID=America/New_York:20300418T190000
DTEND;TZID=America/New_York:20300418T190000
DTSTAMP:20260422T134713
CREATED:20260225T220515Z
LAST-MODIFIED:20260414T232108Z
UID:10000286-1902769200-1902769200@holidaybaratl.com
SUMMARY:Sunset Sessions 🎶
DESCRIPTION:POV: You said you were going home after one drink … but Sunset Sessions is calling ! \nGolden hour hits. DJ behind the bar. Cocktail in hand. Pick up the phone & come on in! \nEvery Thursday 7PM – 12AM | This is your sign to romanticize your Thursday 
URL:https://holidaybaratl.com/event/sunset-sessions-%f0%9f%8e%b6/2030-04-18/
LOCATION:HOLIDAY
CATEGORIES:Listening Party
ATTACH;FMTTYPE=image/png:https://holidaybaratl.com/wp-content/uploads/2026/02/Sunset-Sessions-Spain-Instagram-Story.png
END:VEVENT
END:VCALENDAR