BEGIN:VCALENDAR
VERSION:2.0
PRODID:-//Holiday Bar - ECPv6.15.20//NONSGML v1.0//EN
CALSCALE:GREGORIAN
METHOD:PUBLISH
X-ORIGINAL-URL:https://holidaybaratl.com
X-WR-CALDESC:Events for Holiday Bar
REFRESH-INTERVAL;VALUE=DURATION:PT1H
X-Robots-Tag:noindex
X-PUBLISHED-TTL:PT1H
BEGIN:VTIMEZONE
TZID:America/New_York
BEGIN:DAYLIGHT
TZOFFSETFROM:-0500
TZOFFSETTO:-0400
TZNAME:EDT
DTSTART:20260308T070000
END:DAYLIGHT
BEGIN:STANDARD
TZOFFSETFROM:-0400
TZOFFSETTO:-0500
TZNAME:EST
DTSTART:20261101T060000
END:STANDARD
BEGIN:DAYLIGHT
TZOFFSETFROM:-0500
TZOFFSETTO:-0400
TZNAME:EDT
DTSTART:20270314T070000
END:DAYLIGHT
BEGIN:STANDARD
TZOFFSETFROM:-0400
TZOFFSETTO:-0500
TZNAME:EST
DTSTART:20271107T060000
END:STANDARD
BEGIN:DAYLIGHT
TZOFFSETFROM:-0500
TZOFFSETTO:-0400
TZNAME:EDT
DTSTART:20280312T070000
END:DAYLIGHT
BEGIN:STANDARD
TZOFFSETFROM:-0400
TZOFFSETTO:-0500
TZNAME:EST
DTSTART:20281105T060000
END:STANDARD
END:VTIMEZONE
BEGIN:VEVENT
DTSTART;TZID=America/New_York:20270401T190000
DTEND;TZID=America/New_York:20270401T190000
DTSTAMP:20260425T215137
CREATED:20260225T220515Z
LAST-MODIFIED:20260414T232108Z
UID:10000127-1806606000-1806606000@holidaybaratl.com
SUMMARY:Sunset Sessions 🎶
DESCRIPTION:POV: You said you were going home after one drink … but Sunset Sessions is calling ! \nGolden hour hits. DJ behind the bar. Cocktail in hand. Pick up the phone & come on in! \nEvery Thursday 7PM – 12AM | This is your sign to romanticize your Thursday 
URL:https://holidaybaratl.com/event/sunset-sessions-%f0%9f%8e%b6/2027-04-01/
LOCATION:HOLIDAY
CATEGORIES:Listening Party
ATTACH;FMTTYPE=image/png:https://holidaybaratl.com/wp-content/uploads/2026/02/Sunset-Sessions-Spain-Instagram-Story.png
END:VEVENT
BEGIN:VEVENT
DTSTART;TZID=America/New_York:20270408T190000
DTEND;TZID=America/New_York:20270408T190000
DTSTAMP:20260425T215137
CREATED:20260225T220515Z
LAST-MODIFIED:20260414T232108Z
UID:10000128-1807210800-1807210800@holidaybaratl.com
SUMMARY:Sunset Sessions 🎶
DESCRIPTION:POV: You said you were going home after one drink … but Sunset Sessions is calling ! \nGolden hour hits. DJ behind the bar. Cocktail in hand. Pick up the phone & come on in! \nEvery Thursday 7PM – 12AM | This is your sign to romanticize your Thursday 
URL:https://holidaybaratl.com/event/sunset-sessions-%f0%9f%8e%b6/2027-04-08/
LOCATION:HOLIDAY
CATEGORIES:Listening Party
ATTACH;FMTTYPE=image/png:https://holidaybaratl.com/wp-content/uploads/2026/02/Sunset-Sessions-Spain-Instagram-Story.png
END:VEVENT
BEGIN:VEVENT
DTSTART;TZID=America/New_York:20270415T190000
DTEND;TZID=America/New_York:20270415T190000
DTSTAMP:20260425T215137
CREATED:20260225T220515Z
LAST-MODIFIED:20260414T232108Z
UID:10000129-1807815600-1807815600@holidaybaratl.com
SUMMARY:Sunset Sessions 🎶
DESCRIPTION:POV: You said you were going home after one drink … but Sunset Sessions is calling ! \nGolden hour hits. DJ behind the bar. Cocktail in hand. Pick up the phone & come on in! \nEvery Thursday 7PM – 12AM | This is your sign to romanticize your Thursday 
URL:https://holidaybaratl.com/event/sunset-sessions-%f0%9f%8e%b6/2027-04-15/
LOCATION:HOLIDAY
CATEGORIES:Listening Party
ATTACH;FMTTYPE=image/png:https://holidaybaratl.com/wp-content/uploads/2026/02/Sunset-Sessions-Spain-Instagram-Story.png
END:VEVENT
BEGIN:VEVENT
DTSTART;TZID=America/New_York:20270422T190000
DTEND;TZID=America/New_York:20270422T190000
DTSTAMP:20260425T215137
CREATED:20260225T220515Z
LAST-MODIFIED:20260414T232108Z
UID:10000130-1808420400-1808420400@holidaybaratl.com
SUMMARY:Sunset Sessions 🎶
DESCRIPTION:POV: You said you were going home after one drink … but Sunset Sessions is calling ! \nGolden hour hits. DJ behind the bar. Cocktail in hand. Pick up the phone & come on in! \nEvery Thursday 7PM – 12AM | This is your sign to romanticize your Thursday 
URL:https://holidaybaratl.com/event/sunset-sessions-%f0%9f%8e%b6/2027-04-22/
LOCATION:HOLIDAY
CATEGORIES:Listening Party
ATTACH;FMTTYPE=image/png:https://holidaybaratl.com/wp-content/uploads/2026/02/Sunset-Sessions-Spain-Instagram-Story.png
END:VEVENT
BEGIN:VEVENT
DTSTART;TZID=America/New_York:20270429T190000
DTEND;TZID=America/New_York:20270429T190000
DTSTAMP:20260425T215137
CREATED:20260225T220515Z
LAST-MODIFIED:20260414T232108Z
UID:10000131-1809025200-1809025200@holidaybaratl.com
SUMMARY:Sunset Sessions 🎶
DESCRIPTION:POV: You said you were going home after one drink … but Sunset Sessions is calling ! \nGolden hour hits. DJ behind the bar. Cocktail in hand. Pick up the phone & come on in! \nEvery Thursday 7PM – 12AM | This is your sign to romanticize your Thursday 
URL:https://holidaybaratl.com/event/sunset-sessions-%f0%9f%8e%b6/2027-04-29/
LOCATION:HOLIDAY
CATEGORIES:Listening Party
ATTACH;FMTTYPE=image/png:https://holidaybaratl.com/wp-content/uploads/2026/02/Sunset-Sessions-Spain-Instagram-Story.png
END:VEVENT
BEGIN:VEVENT
DTSTART;TZID=America/New_York:20270506T190000
DTEND;TZID=America/New_York:20270506T190000
DTSTAMP:20260425T215137
CREATED:20260225T220515Z
LAST-MODIFIED:20260414T232108Z
UID:10000132-1809630000-1809630000@holidaybaratl.com
SUMMARY:Sunset Sessions 🎶
DESCRIPTION:POV: You said you were going home after one drink … but Sunset Sessions is calling ! \nGolden hour hits. DJ behind the bar. Cocktail in hand. Pick up the phone & come on in! \nEvery Thursday 7PM – 12AM | This is your sign to romanticize your Thursday 
URL:https://holidaybaratl.com/event/sunset-sessions-%f0%9f%8e%b6/2027-05-06/
LOCATION:HOLIDAY
CATEGORIES:Listening Party
ATTACH;FMTTYPE=image/png:https://holidaybaratl.com/wp-content/uploads/2026/02/Sunset-Sessions-Spain-Instagram-Story.png
END:VEVENT
BEGIN:VEVENT
DTSTART;TZID=America/New_York:20270513T190000
DTEND;TZID=America/New_York:20270513T190000
DTSTAMP:20260425T215137
CREATED:20260225T220515Z
LAST-MODIFIED:20260414T232108Z
UID:10000133-1810234800-1810234800@holidaybaratl.com
SUMMARY:Sunset Sessions 🎶
DESCRIPTION:POV: You said you were going home after one drink … but Sunset Sessions is calling ! \nGolden hour hits. DJ behind the bar. Cocktail in hand. Pick up the phone & come on in! \nEvery Thursday 7PM – 12AM | This is your sign to romanticize your Thursday 
URL:https://holidaybaratl.com/event/sunset-sessions-%f0%9f%8e%b6/2027-05-13/
LOCATION:HOLIDAY
CATEGORIES:Listening Party
ATTACH;FMTTYPE=image/png:https://holidaybaratl.com/wp-content/uploads/2026/02/Sunset-Sessions-Spain-Instagram-Story.png
END:VEVENT
BEGIN:VEVENT
DTSTART;TZID=America/New_York:20270520T190000
DTEND;TZID=America/New_York:20270520T190000
DTSTAMP:20260425T215137
CREATED:20260225T220515Z
LAST-MODIFIED:20260414T232108Z
UID:10000134-1810839600-1810839600@holidaybaratl.com
SUMMARY:Sunset Sessions 🎶
DESCRIPTION:POV: You said you were going home after one drink … but Sunset Sessions is calling ! \nGolden hour hits. DJ behind the bar. Cocktail in hand. Pick up the phone & come on in! \nEvery Thursday 7PM – 12AM | This is your sign to romanticize your Thursday 
URL:https://holidaybaratl.com/event/sunset-sessions-%f0%9f%8e%b6/2027-05-20/
LOCATION:HOLIDAY
CATEGORIES:Listening Party
ATTACH;FMTTYPE=image/png:https://holidaybaratl.com/wp-content/uploads/2026/02/Sunset-Sessions-Spain-Instagram-Story.png
END:VEVENT
BEGIN:VEVENT
DTSTART;TZID=America/New_York:20270527T190000
DTEND;TZID=America/New_York:20270527T190000
DTSTAMP:20260425T215137
CREATED:20260225T220515Z
LAST-MODIFIED:20260414T232108Z
UID:10000135-1811444400-1811444400@holidaybaratl.com
SUMMARY:Sunset Sessions 🎶
DESCRIPTION:POV: You said you were going home after one drink … but Sunset Sessions is calling ! \nGolden hour hits. DJ behind the bar. Cocktail in hand. Pick up the phone & come on in! \nEvery Thursday 7PM – 12AM | This is your sign to romanticize your Thursday 
URL:https://holidaybaratl.com/event/sunset-sessions-%f0%9f%8e%b6/2027-05-27/
LOCATION:HOLIDAY
CATEGORIES:Listening Party
ATTACH;FMTTYPE=image/png:https://holidaybaratl.com/wp-content/uploads/2026/02/Sunset-Sessions-Spain-Instagram-Story.png
END:VEVENT
BEGIN:VEVENT
DTSTART;TZID=America/New_York:20270603T190000
DTEND;TZID=America/New_York:20270603T190000
DTSTAMP:20260425T215137
CREATED:20260225T220515Z
LAST-MODIFIED:20260414T232108Z
UID:10000136-1812049200-1812049200@holidaybaratl.com
SUMMARY:Sunset Sessions 🎶
DESCRIPTION:POV: You said you were going home after one drink … but Sunset Sessions is calling ! \nGolden hour hits. DJ behind the bar. Cocktail in hand. Pick up the phone & come on in! \nEvery Thursday 7PM – 12AM | This is your sign to romanticize your Thursday 
URL:https://holidaybaratl.com/event/sunset-sessions-%f0%9f%8e%b6/2027-06-03/
LOCATION:HOLIDAY
CATEGORIES:Listening Party
ATTACH;FMTTYPE=image/png:https://holidaybaratl.com/wp-content/uploads/2026/02/Sunset-Sessions-Spain-Instagram-Story.png
END:VEVENT
BEGIN:VEVENT
DTSTART;TZID=America/New_York:20270610T190000
DTEND;TZID=America/New_York:20270610T190000
DTSTAMP:20260425T215137
CREATED:20260225T220515Z
LAST-MODIFIED:20260414T232108Z
UID:10000137-1812654000-1812654000@holidaybaratl.com
SUMMARY:Sunset Sessions 🎶
DESCRIPTION:POV: You said you were going home after one drink … but Sunset Sessions is calling ! \nGolden hour hits. DJ behind the bar. Cocktail in hand. Pick up the phone & come on in! \nEvery Thursday 7PM – 12AM | This is your sign to romanticize your Thursday 
URL:https://holidaybaratl.com/event/sunset-sessions-%f0%9f%8e%b6/2027-06-10/
LOCATION:HOLIDAY
CATEGORIES:Listening Party
ATTACH;FMTTYPE=image/png:https://holidaybaratl.com/wp-content/uploads/2026/02/Sunset-Sessions-Spain-Instagram-Story.png
END:VEVENT
BEGIN:VEVENT
DTSTART;TZID=America/New_York:20270617T190000
DTEND;TZID=America/New_York:20270617T190000
DTSTAMP:20260425T215137
CREATED:20260225T220515Z
LAST-MODIFIED:20260414T232108Z
UID:10000138-1813258800-1813258800@holidaybaratl.com
SUMMARY:Sunset Sessions 🎶
DESCRIPTION:POV: You said you were going home after one drink … but Sunset Sessions is calling ! \nGolden hour hits. DJ behind the bar. Cocktail in hand. Pick up the phone & come on in! \nEvery Thursday 7PM – 12AM | This is your sign to romanticize your Thursday 
URL:https://holidaybaratl.com/event/sunset-sessions-%f0%9f%8e%b6/2027-06-17/
LOCATION:HOLIDAY
CATEGORIES:Listening Party
ATTACH;FMTTYPE=image/png:https://holidaybaratl.com/wp-content/uploads/2026/02/Sunset-Sessions-Spain-Instagram-Story.png
END:VEVENT
BEGIN:VEVENT
DTSTART;TZID=America/New_York:20270624T190000
DTEND;TZID=America/New_York:20270624T190000
DTSTAMP:20260425T215137
CREATED:20260225T220515Z
LAST-MODIFIED:20260414T232108Z
UID:10000139-1813863600-1813863600@holidaybaratl.com
SUMMARY:Sunset Sessions 🎶
DESCRIPTION:POV: You said you were going home after one drink … but Sunset Sessions is calling ! \nGolden hour hits. DJ behind the bar. Cocktail in hand. Pick up the phone & come on in! \nEvery Thursday 7PM – 12AM | This is your sign to romanticize your Thursday 
URL:https://holidaybaratl.com/event/sunset-sessions-%f0%9f%8e%b6/2027-06-24/
LOCATION:HOLIDAY
CATEGORIES:Listening Party
ATTACH;FMTTYPE=image/png:https://holidaybaratl.com/wp-content/uploads/2026/02/Sunset-Sessions-Spain-Instagram-Story.png
END:VEVENT
BEGIN:VEVENT
DTSTART;TZID=America/New_York:20270701T190000
DTEND;TZID=America/New_York:20270701T190000
DTSTAMP:20260425T215137
CREATED:20260225T220515Z
LAST-MODIFIED:20260414T232108Z
UID:10000140-1814468400-1814468400@holidaybaratl.com
SUMMARY:Sunset Sessions 🎶
DESCRIPTION:POV: You said you were going home after one drink … but Sunset Sessions is calling ! \nGolden hour hits. DJ behind the bar. Cocktail in hand. Pick up the phone & come on in! \nEvery Thursday 7PM – 12AM | This is your sign to romanticize your Thursday 
URL:https://holidaybaratl.com/event/sunset-sessions-%f0%9f%8e%b6/2027-07-01/
LOCATION:HOLIDAY
CATEGORIES:Listening Party
ATTACH;FMTTYPE=image/png:https://holidaybaratl.com/wp-content/uploads/2026/02/Sunset-Sessions-Spain-Instagram-Story.png
END:VEVENT
BEGIN:VEVENT
DTSTART;TZID=America/New_York:20270708T190000
DTEND;TZID=America/New_York:20270708T190000
DTSTAMP:20260425T215137
CREATED:20260225T220515Z
LAST-MODIFIED:20260414T232108Z
UID:10000141-1815073200-1815073200@holidaybaratl.com
SUMMARY:Sunset Sessions 🎶
DESCRIPTION:POV: You said you were going home after one drink … but Sunset Sessions is calling ! \nGolden hour hits. DJ behind the bar. Cocktail in hand. Pick up the phone & come on in! \nEvery Thursday 7PM – 12AM | This is your sign to romanticize your Thursday 
URL:https://holidaybaratl.com/event/sunset-sessions-%f0%9f%8e%b6/2027-07-08/
LOCATION:HOLIDAY
CATEGORIES:Listening Party
ATTACH;FMTTYPE=image/png:https://holidaybaratl.com/wp-content/uploads/2026/02/Sunset-Sessions-Spain-Instagram-Story.png
END:VEVENT
BEGIN:VEVENT
DTSTART;TZID=America/New_York:20270715T190000
DTEND;TZID=America/New_York:20270715T190000
DTSTAMP:20260425T215137
CREATED:20260225T220515Z
LAST-MODIFIED:20260414T232108Z
UID:10000142-1815678000-1815678000@holidaybaratl.com
SUMMARY:Sunset Sessions 🎶
DESCRIPTION:POV: You said you were going home after one drink … but Sunset Sessions is calling ! \nGolden hour hits. DJ behind the bar. Cocktail in hand. Pick up the phone & come on in! \nEvery Thursday 7PM – 12AM | This is your sign to romanticize your Thursday 
URL:https://holidaybaratl.com/event/sunset-sessions-%f0%9f%8e%b6/2027-07-15/
LOCATION:HOLIDAY
CATEGORIES:Listening Party
ATTACH;FMTTYPE=image/png:https://holidaybaratl.com/wp-content/uploads/2026/02/Sunset-Sessions-Spain-Instagram-Story.png
END:VEVENT
BEGIN:VEVENT
DTSTART;TZID=America/New_York:20270722T190000
DTEND;TZID=America/New_York:20270722T190000
DTSTAMP:20260425T215137
CREATED:20260225T220515Z
LAST-MODIFIED:20260414T232108Z
UID:10000143-1816282800-1816282800@holidaybaratl.com
SUMMARY:Sunset Sessions 🎶
DESCRIPTION:POV: You said you were going home after one drink … but Sunset Sessions is calling ! \nGolden hour hits. DJ behind the bar. Cocktail in hand. Pick up the phone & come on in! \nEvery Thursday 7PM – 12AM | This is your sign to romanticize your Thursday 
URL:https://holidaybaratl.com/event/sunset-sessions-%f0%9f%8e%b6/2027-07-22/
LOCATION:HOLIDAY
CATEGORIES:Listening Party
ATTACH;FMTTYPE=image/png:https://holidaybaratl.com/wp-content/uploads/2026/02/Sunset-Sessions-Spain-Instagram-Story.png
END:VEVENT
BEGIN:VEVENT
DTSTART;TZID=America/New_York:20270729T190000
DTEND;TZID=America/New_York:20270729T190000
DTSTAMP:20260425T215137
CREATED:20260225T220515Z
LAST-MODIFIED:20260414T232108Z
UID:10000144-1816887600-1816887600@holidaybaratl.com
SUMMARY:Sunset Sessions 🎶
DESCRIPTION:POV: You said you were going home after one drink … but Sunset Sessions is calling ! \nGolden hour hits. DJ behind the bar. Cocktail in hand. Pick up the phone & come on in! \nEvery Thursday 7PM – 12AM | This is your sign to romanticize your Thursday 
URL:https://holidaybaratl.com/event/sunset-sessions-%f0%9f%8e%b6/2027-07-29/
LOCATION:HOLIDAY
CATEGORIES:Listening Party
ATTACH;FMTTYPE=image/png:https://holidaybaratl.com/wp-content/uploads/2026/02/Sunset-Sessions-Spain-Instagram-Story.png
END:VEVENT
BEGIN:VEVENT
DTSTART;TZID=America/New_York:20270805T190000
DTEND;TZID=America/New_York:20270805T190000
DTSTAMP:20260425T215137
CREATED:20260225T220515Z
LAST-MODIFIED:20260414T232108Z
UID:10000145-1817492400-1817492400@holidaybaratl.com
SUMMARY:Sunset Sessions 🎶
DESCRIPTION:POV: You said you were going home after one drink … but Sunset Sessions is calling ! \nGolden hour hits. DJ behind the bar. Cocktail in hand. Pick up the phone & come on in! \nEvery Thursday 7PM – 12AM | This is your sign to romanticize your Thursday 
URL:https://holidaybaratl.com/event/sunset-sessions-%f0%9f%8e%b6/2027-08-05/
LOCATION:HOLIDAY
CATEGORIES:Listening Party
ATTACH;FMTTYPE=image/png:https://holidaybaratl.com/wp-content/uploads/2026/02/Sunset-Sessions-Spain-Instagram-Story.png
END:VEVENT
BEGIN:VEVENT
DTSTART;TZID=America/New_York:20270812T190000
DTEND;TZID=America/New_York:20270812T190000
DTSTAMP:20260425T215137
CREATED:20260225T220515Z
LAST-MODIFIED:20260414T232108Z
UID:10000146-1818097200-1818097200@holidaybaratl.com
SUMMARY:Sunset Sessions 🎶
DESCRIPTION:POV: You said you were going home after one drink … but Sunset Sessions is calling ! \nGolden hour hits. DJ behind the bar. Cocktail in hand. Pick up the phone & come on in! \nEvery Thursday 7PM – 12AM | This is your sign to romanticize your Thursday 
URL:https://holidaybaratl.com/event/sunset-sessions-%f0%9f%8e%b6/2027-08-12/
LOCATION:HOLIDAY
CATEGORIES:Listening Party
ATTACH;FMTTYPE=image/png:https://holidaybaratl.com/wp-content/uploads/2026/02/Sunset-Sessions-Spain-Instagram-Story.png
END:VEVENT
BEGIN:VEVENT
DTSTART;TZID=America/New_York:20270819T190000
DTEND;TZID=America/New_York:20270819T190000
DTSTAMP:20260425T215137
CREATED:20260225T220515Z
LAST-MODIFIED:20260414T232108Z
UID:10000147-1818702000-1818702000@holidaybaratl.com
SUMMARY:Sunset Sessions 🎶
DESCRIPTION:POV: You said you were going home after one drink … but Sunset Sessions is calling ! \nGolden hour hits. DJ behind the bar. Cocktail in hand. Pick up the phone & come on in! \nEvery Thursday 7PM – 12AM | This is your sign to romanticize your Thursday 
URL:https://holidaybaratl.com/event/sunset-sessions-%f0%9f%8e%b6/2027-08-19/
LOCATION:HOLIDAY
CATEGORIES:Listening Party
ATTACH;FMTTYPE=image/png:https://holidaybaratl.com/wp-content/uploads/2026/02/Sunset-Sessions-Spain-Instagram-Story.png
END:VEVENT
BEGIN:VEVENT
DTSTART;TZID=America/New_York:20270826T190000
DTEND;TZID=America/New_York:20270826T190000
DTSTAMP:20260425T215137
CREATED:20260225T220515Z
LAST-MODIFIED:20260414T232108Z
UID:10000148-1819306800-1819306800@holidaybaratl.com
SUMMARY:Sunset Sessions 🎶
DESCRIPTION:POV: You said you were going home after one drink … but Sunset Sessions is calling ! \nGolden hour hits. DJ behind the bar. Cocktail in hand. Pick up the phone & come on in! \nEvery Thursday 7PM – 12AM | This is your sign to romanticize your Thursday 
URL:https://holidaybaratl.com/event/sunset-sessions-%f0%9f%8e%b6/2027-08-26/
LOCATION:HOLIDAY
CATEGORIES:Listening Party
ATTACH;FMTTYPE=image/png:https://holidaybaratl.com/wp-content/uploads/2026/02/Sunset-Sessions-Spain-Instagram-Story.png
END:VEVENT
BEGIN:VEVENT
DTSTART;TZID=America/New_York:20270902T190000
DTEND;TZID=America/New_York:20270902T190000
DTSTAMP:20260425T215137
CREATED:20260225T220515Z
LAST-MODIFIED:20260414T232108Z
UID:10000149-1819911600-1819911600@holidaybaratl.com
SUMMARY:Sunset Sessions 🎶
DESCRIPTION:POV: You said you were going home after one drink … but Sunset Sessions is calling ! \nGolden hour hits. DJ behind the bar. Cocktail in hand. Pick up the phone & come on in! \nEvery Thursday 7PM – 12AM | This is your sign to romanticize your Thursday 
URL:https://holidaybaratl.com/event/sunset-sessions-%f0%9f%8e%b6/2027-09-02/
LOCATION:HOLIDAY
CATEGORIES:Listening Party
ATTACH;FMTTYPE=image/png:https://holidaybaratl.com/wp-content/uploads/2026/02/Sunset-Sessions-Spain-Instagram-Story.png
END:VEVENT
BEGIN:VEVENT
DTSTART;TZID=America/New_York:20270909T190000
DTEND;TZID=America/New_York:20270909T190000
DTSTAMP:20260425T215137
CREATED:20260225T220515Z
LAST-MODIFIED:20260414T232108Z
UID:10000150-1820516400-1820516400@holidaybaratl.com
SUMMARY:Sunset Sessions 🎶
DESCRIPTION:POV: You said you were going home after one drink … but Sunset Sessions is calling ! \nGolden hour hits. DJ behind the bar. Cocktail in hand. Pick up the phone & come on in! \nEvery Thursday 7PM – 12AM | This is your sign to romanticize your Thursday 
URL:https://holidaybaratl.com/event/sunset-sessions-%f0%9f%8e%b6/2027-09-09/
LOCATION:HOLIDAY
CATEGORIES:Listening Party
ATTACH;FMTTYPE=image/png:https://holidaybaratl.com/wp-content/uploads/2026/02/Sunset-Sessions-Spain-Instagram-Story.png
END:VEVENT
BEGIN:VEVENT
DTSTART;TZID=America/New_York:20270916T190000
DTEND;TZID=America/New_York:20270916T190000
DTSTAMP:20260425T215137
CREATED:20260225T220515Z
LAST-MODIFIED:20260414T232108Z
UID:10000151-1821121200-1821121200@holidaybaratl.com
SUMMARY:Sunset Sessions 🎶
DESCRIPTION:POV: You said you were going home after one drink … but Sunset Sessions is calling ! \nGolden hour hits. DJ behind the bar. Cocktail in hand. Pick up the phone & come on in! \nEvery Thursday 7PM – 12AM | This is your sign to romanticize your Thursday 
URL:https://holidaybaratl.com/event/sunset-sessions-%f0%9f%8e%b6/2027-09-16/
LOCATION:HOLIDAY
CATEGORIES:Listening Party
ATTACH;FMTTYPE=image/png:https://holidaybaratl.com/wp-content/uploads/2026/02/Sunset-Sessions-Spain-Instagram-Story.png
END:VEVENT
BEGIN:VEVENT
DTSTART;TZID=America/New_York:20270923T190000
DTEND;TZID=America/New_York:20270923T190000
DTSTAMP:20260425T215137
CREATED:20260225T220515Z
LAST-MODIFIED:20260414T232108Z
UID:10000152-1821726000-1821726000@holidaybaratl.com
SUMMARY:Sunset Sessions 🎶
DESCRIPTION:POV: You said you were going home after one drink … but Sunset Sessions is calling ! \nGolden hour hits. DJ behind the bar. Cocktail in hand. Pick up the phone & come on in! \nEvery Thursday 7PM – 12AM | This is your sign to romanticize your Thursday 
URL:https://holidaybaratl.com/event/sunset-sessions-%f0%9f%8e%b6/2027-09-23/
LOCATION:HOLIDAY
CATEGORIES:Listening Party
ATTACH;FMTTYPE=image/png:https://holidaybaratl.com/wp-content/uploads/2026/02/Sunset-Sessions-Spain-Instagram-Story.png
END:VEVENT
BEGIN:VEVENT
DTSTART;TZID=America/New_York:20270930T190000
DTEND;TZID=America/New_York:20270930T190000
DTSTAMP:20260425T215137
CREATED:20260225T220515Z
LAST-MODIFIED:20260414T232108Z
UID:10000153-1822330800-1822330800@holidaybaratl.com
SUMMARY:Sunset Sessions 🎶
DESCRIPTION:POV: You said you were going home after one drink … but Sunset Sessions is calling ! \nGolden hour hits. DJ behind the bar. Cocktail in hand. Pick up the phone & come on in! \nEvery Thursday 7PM – 12AM | This is your sign to romanticize your Thursday 
URL:https://holidaybaratl.com/event/sunset-sessions-%f0%9f%8e%b6/2027-09-30/
LOCATION:HOLIDAY
CATEGORIES:Listening Party
ATTACH;FMTTYPE=image/png:https://holidaybaratl.com/wp-content/uploads/2026/02/Sunset-Sessions-Spain-Instagram-Story.png
END:VEVENT
BEGIN:VEVENT
DTSTART;TZID=America/New_York:20271007T190000
DTEND;TZID=America/New_York:20271007T190000
DTSTAMP:20260425T215137
CREATED:20260225T220515Z
LAST-MODIFIED:20260414T232108Z
UID:10000154-1822935600-1822935600@holidaybaratl.com
SUMMARY:Sunset Sessions 🎶
DESCRIPTION:POV: You said you were going home after one drink … but Sunset Sessions is calling ! \nGolden hour hits. DJ behind the bar. Cocktail in hand. Pick up the phone & come on in! \nEvery Thursday 7PM – 12AM | This is your sign to romanticize your Thursday 
URL:https://holidaybaratl.com/event/sunset-sessions-%f0%9f%8e%b6/2027-10-07/
LOCATION:HOLIDAY
CATEGORIES:Listening Party
ATTACH;FMTTYPE=image/png:https://holidaybaratl.com/wp-content/uploads/2026/02/Sunset-Sessions-Spain-Instagram-Story.png
END:VEVENT
BEGIN:VEVENT
DTSTART;TZID=America/New_York:20271014T190000
DTEND;TZID=America/New_York:20271014T190000
DTSTAMP:20260425T215137
CREATED:20260225T220515Z
LAST-MODIFIED:20260414T232108Z
UID:10000155-1823540400-1823540400@holidaybaratl.com
SUMMARY:Sunset Sessions 🎶
DESCRIPTION:POV: You said you were going home after one drink … but Sunset Sessions is calling ! \nGolden hour hits. DJ behind the bar. Cocktail in hand. Pick up the phone & come on in! \nEvery Thursday 7PM – 12AM | This is your sign to romanticize your Thursday 
URL:https://holidaybaratl.com/event/sunset-sessions-%f0%9f%8e%b6/2027-10-14/
LOCATION:HOLIDAY
CATEGORIES:Listening Party
ATTACH;FMTTYPE=image/png:https://holidaybaratl.com/wp-content/uploads/2026/02/Sunset-Sessions-Spain-Instagram-Story.png
END:VEVENT
BEGIN:VEVENT
DTSTART;TZID=America/New_York:20271021T190000
DTEND;TZID=America/New_York:20271021T190000
DTSTAMP:20260425T215137
CREATED:20260225T220515Z
LAST-MODIFIED:20260414T232108Z
UID:10000156-1824145200-1824145200@holidaybaratl.com
SUMMARY:Sunset Sessions 🎶
DESCRIPTION:POV: You said you were going home after one drink … but Sunset Sessions is calling ! \nGolden hour hits. DJ behind the bar. Cocktail in hand. Pick up the phone & come on in! \nEvery Thursday 7PM – 12AM | This is your sign to romanticize your Thursday 
URL:https://holidaybaratl.com/event/sunset-sessions-%f0%9f%8e%b6/2027-10-21/
LOCATION:HOLIDAY
CATEGORIES:Listening Party
ATTACH;FMTTYPE=image/png:https://holidaybaratl.com/wp-content/uploads/2026/02/Sunset-Sessions-Spain-Instagram-Story.png
END:VEVENT
END:VCALENDAR