BEGIN:VCALENDAR
VERSION:2.0
PRODID:-//Holiday Bar - ECPv6.15.20//NONSGML v1.0//EN
CALSCALE:GREGORIAN
METHOD:PUBLISH
X-WR-CALNAME:Holiday Bar
X-ORIGINAL-URL:https://holidaybaratl.com
X-WR-CALDESC:Events for Holiday Bar
REFRESH-INTERVAL;VALUE=DURATION:PT1H
X-Robots-Tag:noindex
X-PUBLISHED-TTL:PT1H
BEGIN:VTIMEZONE
TZID:UTC
BEGIN:STANDARD
TZOFFSETFROM:+0000
TZOFFSETTO:+0000
TZNAME:UTC
DTSTART:20240101T000000
END:STANDARD
END:VTIMEZONE
BEGIN:VEVENT
DTSTART;TZID=UTC:20250315T090000
DTEND;TZID=UTC:20250315T130000
DTSTAMP:20260425T181231
CREATED:20250307T212905Z
LAST-MODIFIED:20250307T214338Z
UID:10000023-1742029200-1742043600@holidaybaratl.com
SUMMARY:Cinnamon Toasted - St Patty's @ The Interlock Green
DESCRIPTION:Get ready for Cinnamon Toasted – St. Patty’s. This high-energy daytime party at Interlock Green Space brings you free espresso martinis\, great music\, and non-stop vibes. Kick off St. Patrick’s weekend with A.M. Vibes and P.M. Energy as we toast to good times and great drinks. Don’t miss out on this unforgettable morning bash! \nGrab tickets 🎟️ https://posh.vip/e/cinnamon-toasted-st-pattys \n  \n 
URL:https://holidaybaratl.com/event/cinnamon-toasted-st-pattys-the-interlock-green/
LOCATION:Interlock’s Highline Park\, 1115 Howell Mill Rd\, Atlanta\, GA\, 30318\, United States
ATTACH;FMTTYPE=image/jpeg:https://holidaybaratl.com/wp-content/uploads/2025/03/1400x1750.jpeg
GEO:33.784903;-84.411132
X-APPLE-STRUCTURED-LOCATION;VALUE=URI;X-ADDRESS=Interlock’s Highline Park 1115 Howell Mill Rd Atlanta GA 30318 United States;X-APPLE-RADIUS=500;X-TITLE=1115 Howell Mill Rd:geo:-84.411132,33.784903
END:VEVENT
END:VCALENDAR